BEGIN:VCALENDAR
VERSION:2.0
PRODID:-//Espacio Elsa - ECPv5.0.2//NONSGML v1.0//EN
CALSCALE:GREGORIAN
METHOD:PUBLISH
X-WR-CALNAME:Espacio Elsa
X-ORIGINAL-URL:https://www.espacioelsa.com
X-WR-CALDESC:Eventos para Espacio Elsa
BEGIN:VTIMEZONE
TZID:Europe/Madrid
BEGIN:DAYLIGHT
TZOFFSETFROM:+0100
TZOFFSETTO:+0200
TZNAME:CEST
DTSTART:20190331T010000
END:DAYLIGHT
BEGIN:STANDARD
TZOFFSETFROM:+0200
TZOFFSETTO:+0100
TZNAME:CET
DTSTART:20191027T010000
END:STANDARD
END:VTIMEZONE
BEGIN:VEVENT
DTSTART;TZID=Europe/Madrid:20190710T190000
DTEND;TZID=Europe/Madrid:20190710T210000
DTSTAMP:20260425T132959
CREATED:20190625T203753Z
LAST-MODIFIED:20190625T204332Z
UID:2771-1562785200-1562792400@www.espacioelsa.com
SUMMARY:Xerrada Gratuita "Nou Protocol Podal en l'Abordatge de les Emocions"
DESCRIPTION:Nou Protocol Podal en l’Abordatge de les Emocions \nÁfrica M. Cañizares\, Fundadora de Mans y Aromes\, et convida a aquestes xarrades gratuïtes de tant valor \nMes Informació a la imatge! \n
URL:https://www.espacioelsa.com/evento/xerrade-gratuita/
LOCATION:Sala 2\, C/ Marina\, 132\, BIS\, Barcelona\, Barcelona\, 08013\, Spain
CATEGORIES:Conferencias
ATTACH;FMTTYPE=image/jpeg:https://www.espacioelsa.com/wp-content/uploads/2019/06/Neus-y-Africa-e1561494316493.jpg
ORGANIZER;CN="Mans%20i%20Aromes":MAILTO:infomansiaromes@gmail.com
END:VEVENT
END:VCALENDAR