BEGIN:VCALENDAR
VERSION:2.0
PRODID:-//Espacio Elsa - ECPv5.0.2//NONSGML v1.0//EN
CALSCALE:GREGORIAN
METHOD:PUBLISH
X-WR-CALNAME:Espacio Elsa
X-ORIGINAL-URL:https://www.espacioelsa.com
X-WR-CALDESC:Eventos para Espacio Elsa
BEGIN:VTIMEZONE
TZID:Europe/Madrid
BEGIN:DAYLIGHT
TZOFFSETFROM:+0100
TZOFFSETTO:+0200
TZNAME:CEST
DTSTART:20190331T010000
END:DAYLIGHT
BEGIN:STANDARD
TZOFFSETFROM:+0200
TZOFFSETTO:+0100
TZNAME:CET
DTSTART:20191027T010000
END:STANDARD
END:VTIMEZONE
BEGIN:VEVENT
DTSTART;TZID=Europe/Madrid:20190206T203000
DTEND;TZID=Europe/Madrid:20190206T223000
DTSTAMP:20260425T155129
CREATED:20190205T084731Z
LAST-MODIFIED:20190205T084731Z
UID:2341-1549485000-1549492200@www.espacioelsa.com
SUMMARY:Una visión mágica del mundo con Carlos y Enedina
DESCRIPTION:
URL:https://www.espacioelsa.com/evento/una-vision-magica-del-mundo-con-carlos-y-enedina-19/
LOCATION:Sala 1\, C/ Marina\, 132\, bajos\, Barcelona\, Barcelona\, 08013\, Spain
CATEGORIES:Conferencias
END:VEVENT
END:VCALENDAR