BEGIN:VCALENDAR
VERSION:2.0
PRODID:-//Espacio Elsa - ECPv5.0.2//NONSGML v1.0//EN
CALSCALE:GREGORIAN
METHOD:PUBLISH
X-WR-CALNAME:Espacio Elsa
X-ORIGINAL-URL:https://www.espacioelsa.com
X-WR-CALDESC:Eventos para Espacio Elsa
BEGIN:VTIMEZONE
TZID:Europe/Madrid
BEGIN:DAYLIGHT
TZOFFSETFROM:+0100
TZOFFSETTO:+0200
TZNAME:CEST
DTSTART:20180325T010000
END:DAYLIGHT
BEGIN:STANDARD
TZOFFSETFROM:+0200
TZOFFSETTO:+0100
TZNAME:CET
DTSTART:20181028T010000
END:STANDARD
END:VTIMEZONE
BEGIN:VEVENT
DTSTART;TZID=Europe/Madrid:20181020T170000
DTEND;TZID=Europe/Madrid:20181020T200000
DTSTAMP:20260425T183339
CREATED:20181008T155920Z
LAST-MODIFIED:20181008T155920Z
UID:2106-1540054800-1540065600@www.espacioelsa.com
SUMMARY:Taller "Tomando a los padres" con teoría sistémica y Ho`oponopono - imparten Sonia Arcos e Ignacio Pallarés
DESCRIPTION:Programa:\n    En qué consiste tomar a los padres.\n    Porqué es importante tomar a los padres.\n    Meditación Tomando a la madre con Teoría Sistémica y Ho’oponopono.\n    Meditación Tomando al padre con Teoría Sistémica y Ho’oponopono. \n
URL:https://www.espacioelsa.com/evento/taller-tomando-a-los-padres-con-teoria-sistemica-y-hooponopono-imparten-sonia-arcos-e-ignacio-pallares/
LOCATION:Sala 1\, C/ Marina\, 132\, bajos\, Barcelona\, Barcelona\, 08013\, Spain
CATEGORIES:Talleres
ATTACH;FMTTYPE=image/jpeg:https://www.espacioelsa.com/wp-content/uploads/2018/10/sonia-padres.jpg
END:VEVENT
END:VCALENDAR