BEGIN:VCALENDAR
VERSION:2.0
PRODID:-//Espacio Elsa - ECPv5.0.2//NONSGML v1.0//EN
CALSCALE:GREGORIAN
METHOD:PUBLISH
X-WR-CALNAME:Espacio Elsa
X-ORIGINAL-URL:https://www.espacioelsa.com
X-WR-CALDESC:Eventos para Espacio Elsa
BEGIN:VTIMEZONE
TZID:Europe/Madrid
BEGIN:DAYLIGHT
TZOFFSETFROM:+0100
TZOFFSETTO:+0200
TZNAME:CEST
DTSTART:20190331T010000
END:DAYLIGHT
BEGIN:STANDARD
TZOFFSETFROM:+0200
TZOFFSETTO:+0100
TZNAME:CET
DTSTART:20191027T010000
END:STANDARD
END:VTIMEZONE
BEGIN:VEVENT
DTSTART;TZID=Europe/Madrid:20190706T160000
DTEND;TZID=Europe/Madrid:20190706T210000
DTSTAMP:20260425T113604
CREATED:20190703T121325Z
LAST-MODIFIED:20190703T121325Z
UID:2787-1562428800-1562446800@www.espacioelsa.com
SUMMARY:TALLER SANANDO MI VIDA
DESCRIPTION:TALLER SANANDO MI VIDA – 4: 00 PM a 9:00 PM \n?Sanar tu niña interior.\n❤Sanar tus relaciones.\n?El espejo de las relaciones.\n?Superar pérdidas dolorosas.\n?El perdón como camino a la libertad.\n?Mensajeros de amor. ??Santificar una relación.\n‼Fases de una relación de pareja.\n?Cómo sanar el miedo al amor o a las pérdidas.\n?Transformar creencias de apego a creencias de libertad y amor.\n?Cómo atraer una pareja.\n?Sexualidad en pareja.\n?Ser feliz con o sin pareja.\n❤ El propósito de una relación.\n?Rituales diarios para el amor\n⠀⠀⠀⠀⠀\nValor: 72 Euros\nPlazas Limitadas \nTaller de Viernes y Sábado juntos por sólo 117€ \n
URL:https://www.espacioelsa.com/evento/taller-sanando-mi-vida/
LOCATION:Sala 1\, C/ Marina\, 132\, bajos\, Barcelona\, Barcelona\, 08013\, Spain
CATEGORIES:Talleres
ATTACH;FMTTYPE=image/jpeg:https://www.espacioelsa.com/wp-content/uploads/2019/07/WhatsApp-Image-2019-07-02-at-22.07.46-e1562155963775.jpeg
END:VEVENT
END:VCALENDAR