BEGIN:VCALENDAR
VERSION:2.0
PRODID:-//Espacio Elsa - ECPv5.0.2//NONSGML v1.0//EN
CALSCALE:GREGORIAN
METHOD:PUBLISH
X-WR-CALNAME:Espacio Elsa
X-ORIGINAL-URL:https://www.espacioelsa.com
X-WR-CALDESC:Eventos para Espacio Elsa
BEGIN:VTIMEZONE
TZID:Europe/Madrid
BEGIN:DAYLIGHT
TZOFFSETFROM:+0100
TZOFFSETTO:+0200
TZNAME:CEST
DTSTART:20180325T010000
END:DAYLIGHT
BEGIN:STANDARD
TZOFFSETFROM:+0200
TZOFFSETTO:+0100
TZNAME:CET
DTSTART:20181028T010000
END:STANDARD
END:VTIMEZONE
BEGIN:VEVENT
DTSTART;TZID=Europe/Madrid:20181222T170000
DTEND;TZID=Europe/Madrid:20181222T200000
DTSTAMP:20260425T225355
CREATED:20181204T124016Z
LAST-MODIFIED:20181204T124016Z
UID:2284-1545498000-1545508800@www.espacioelsa.com
SUMMARY:Taller "Sanando la relación con los Padres" con teoría Sistémica y Ho´oponopono- Sonia Arcos
DESCRIPTION:En este taller vamos a soltar todas las emociones que tenemos acumuladas con respecto a nuestros padres. Todas las emociones que sentimos con respecto a los padres después se reflejan en todos los aspectos de nuestra vida\, ya sea la pareja\, la prosperidad\, el trabajo\, con los jefes en el trabajo\, etc. \n
URL:https://www.espacioelsa.com/evento/taller-sanando-la-relacion-con-los-padres-con-teoria-sistemica-y-hooponopono-sonia-arcos/
LOCATION:Sala 1\, C/ Marina\, 132\, bajos\, Barcelona\, Barcelona\, 08013\, Spain
CATEGORIES:Talleres
ATTACH;FMTTYPE=image/jpeg:https://www.espacioelsa.com/wp-content/uploads/2018/12/sonia-padres.jpg
END:VEVENT
END:VCALENDAR