BEGIN:VCALENDAR
VERSION:2.0
PRODID:-//Espacio Elsa - ECPv5.0.2//NONSGML v1.0//EN
CALSCALE:GREGORIAN
METHOD:PUBLISH
X-WR-CALNAME:Espacio Elsa
X-ORIGINAL-URL:https://www.espacioelsa.com
X-WR-CALDESC:Eventos para Espacio Elsa
BEGIN:VTIMEZONE
TZID:Europe/Madrid
BEGIN:DAYLIGHT
TZOFFSETFROM:+0100
TZOFFSETTO:+0200
TZNAME:CEST
DTSTART:20190331T010000
END:DAYLIGHT
BEGIN:STANDARD
TZOFFSETFROM:+0200
TZOFFSETTO:+0100
TZNAME:CET
DTSTART:20191027T010000
END:STANDARD
END:VTIMEZONE
BEGIN:VEVENT
DTSTART;TZID=Europe/Madrid:20190223T170000
DTEND;TZID=Europe/Madrid:20190223T200000
DTSTAMP:20260425T145522
CREATED:20190213T184311Z
LAST-MODIFIED:20190213T184928Z
UID:2413-1550941200-1550952000@www.espacioelsa.com
SUMMARY:Taller Sanando la Relación con los Padres con Ho’oponopono - Impartido por Sonia Arcos
DESCRIPTION:
URL:https://www.espacioelsa.com/evento/taller-sanando-la-relacion-con-los-padres-con-hooponopono-impartido-por-sonia-arcos/
LOCATION:Sala 1\, C/ Marina\, 132\, bajos\, Barcelona\, Barcelona\, 08013\, Spain
CATEGORIES:Talleres
ATTACH;FMTTYPE=image/jpeg:https://www.espacioelsa.com/wp-content/uploads/2019/02/23feb-17a20.jpg
END:VEVENT
END:VCALENDAR