BEGIN:VCALENDAR
VERSION:2.0
PRODID:-//Espacio Elsa - ECPv5.0.2//NONSGML v1.0//EN
CALSCALE:GREGORIAN
METHOD:PUBLISH
X-WR-CALNAME:Espacio Elsa
X-ORIGINAL-URL:https://www.espacioelsa.com
X-WR-CALDESC:Eventos para Espacio Elsa
BEGIN:VTIMEZONE
TZID:Europe/Madrid
BEGIN:DAYLIGHT
TZOFFSETFROM:+0100
TZOFFSETTO:+0200
TZNAME:CEST
DTSTART:20180325T010000
END:DAYLIGHT
BEGIN:STANDARD
TZOFFSETFROM:+0200
TZOFFSETTO:+0100
TZNAME:CET
DTSTART:20181028T010000
END:STANDARD
END:VTIMEZONE
BEGIN:VEVENT
DTSTART;TZID=Europe/Madrid:20181020T100000
DTEND;TZID=Europe/Madrid:20181020T140000
DTSTAMP:20260425T183354
CREATED:20180926T120113Z
LAST-MODIFIED:20180926T120113Z
UID:2068-1540029600-1540044000@www.espacioelsa.com
SUMMARY:Taller Sanando la herida de lo femenino con Ho`oponopono- imparte Sonia Arcos-Aportación voluntaria
DESCRIPTION:Las mujeres necesitamos crear espacios para vaciar nuestro útero de memorias\, emociones y patrones heredados. Y poder conectar con nuestra esencia femenina en un mundo que nos empuja a estar más en lo masculino que en lo femenino. \n
URL:https://www.espacioelsa.com/evento/taller-sanando-la-herida-de-lo-femenino-con-hooponopono-imparte-sonia-arcos-aportacion-voluntaria/
LOCATION:Sala 1\, C/ Marina\, 132\, bajos\, Barcelona\, Barcelona\, 08013\, Spain
CATEGORIES:Talleres
ATTACH;FMTTYPE=image/jpeg:https://www.espacioelsa.com/wp-content/uploads/2018/09/sonia-sanando.jpg
END:VEVENT
END:VCALENDAR