BEGIN:VCALENDAR
VERSION:2.0
PRODID:-//Espacio Elsa - ECPv5.0.2//NONSGML v1.0//EN
CALSCALE:GREGORIAN
METHOD:PUBLISH
X-WR-CALNAME:Espacio Elsa
X-ORIGINAL-URL:https://www.espacioelsa.com
X-WR-CALDESC:Eventos para Espacio Elsa
BEGIN:VTIMEZONE
TZID:Europe/Madrid
BEGIN:DAYLIGHT
TZOFFSETFROM:+0100
TZOFFSETTO:+0200
TZNAME:CEST
DTSTART:20190331T010000
END:DAYLIGHT
BEGIN:STANDARD
TZOFFSETFROM:+0200
TZOFFSETTO:+0100
TZNAME:CET
DTSTART:20191027T010000
END:STANDARD
END:VTIMEZONE
BEGIN:VEVENT
DTSTART;TZID=Europe/Madrid:20190215T160000
DTEND;TZID=Europe/Madrid:20190215T213000
DTSTAMP:20260425T114018
CREATED:20190207T150233Z
LAST-MODIFIED:20190207T150233Z
UID:2373-1550246400-1550266200@www.espacioelsa.com
SUMMARY:Taller Ho'oponopono - Impartido por María José Cabanillas
DESCRIPTION:LA BASE DEL TALLER SERÁ…. \n-¿Por qué funciona Ho’oponopono?\,\n-¿Qué filosofía hay integrada en esta técnica ancestral hawaiana\n-¿Cómo practicar de la forma correcta?\n-Mantras de Ho’oponopono y herramientas.\n-El 100% responsabilidad-¿Yo atraigo todas las situaciones\, relaciones que hay en mi realidad? ¿Cómo lo hago?\n-El árbol genealógico\n-Maestros-«verdugos» y el mensaje que tienen para ti.\n-El desapego y la entrega.\n-El ego que no nos domine y evitar el sufrimiento.\n-Los miedos\, es hora de superarlos con acción. \nHo´oponopono siempre llega a nuestra vida con una precisión impecable\, en ocasiones cuando el dolor nos limita e inmoviliza\, como forma de ayuda para sostenernos en pie\, mirar la herida de frente\, sanarla\, y seguir evolucionando\, también para concedernos Paz\, Alegría y nuestros anhelos más profundos\, o algo mejor…. \n
URL:https://www.espacioelsa.com/evento/taller-hooponopono-impartido-por-maria-jose-cabanillas/
LOCATION:Sala 1\, C/ Marina\, 132\, bajos\, Barcelona\, Barcelona\, 08013\, Spain
CATEGORIES:Talleres
END:VEVENT
END:VCALENDAR