BEGIN:VCALENDAR
VERSION:2.0
PRODID:-//Espacio Elsa - ECPv5.0.2//NONSGML v1.0//EN
CALSCALE:GREGORIAN
METHOD:PUBLISH
X-WR-CALNAME:Espacio Elsa
X-ORIGINAL-URL:https://www.espacioelsa.com
X-WR-CALDESC:Eventos para Espacio Elsa
BEGIN:VTIMEZONE
TZID:Europe/Madrid
BEGIN:DAYLIGHT
TZOFFSETFROM:+0100
TZOFFSETTO:+0200
TZNAME:CEST
DTSTART:20180325T010000
END:DAYLIGHT
BEGIN:STANDARD
TZOFFSETFROM:+0200
TZOFFSETTO:+0100
TZNAME:CET
DTSTART:20181028T010000
END:STANDARD
END:VTIMEZONE
BEGIN:VEVENT
DTSTART;TZID=Europe/Madrid:20181027T100000
DTEND;TZID=Europe/Madrid:20181028T180000
DTSTAMP:20260425T204720
CREATED:20180607T180602Z
LAST-MODIFIED:20180806T162017Z
UID:1896-1540634400-1540749600@www.espacioelsa.com
SUMMARY:Taller de Radiestesia - impartido por Rosario Urrutia
DESCRIPTION:En este taller aprenderás: \nCómo usar el Pénduloy las Varillas Radiestésicas a través de muchos ejercicios agradables y sorprendentes para poder\ninterpretar correctamente los movimientos de la energía. \nCómo hacer el diagnóstico completo a nivel físico de una persona. \n
URL:https://www.espacioelsa.com/evento/taller-de-radiestesia-impartido-por-rosario-urrutia/
LOCATION:Sala 2\, C/ Marina\, 132\, BIS\, Barcelona\, Barcelona\, 08013\, Spain
CATEGORIES:Talleres
ATTACH;FMTTYPE=image/jpeg:https://www.espacioelsa.com/wp-content/uploads/2018/06/radiestesia-rosario.jpg
END:VEVENT
END:VCALENDAR