BEGIN:VCALENDAR
VERSION:2.0
PRODID:-//Espacio Elsa - ECPv5.0.2//NONSGML v1.0//EN
CALSCALE:GREGORIAN
METHOD:PUBLISH
X-WR-CALNAME:Espacio Elsa
X-ORIGINAL-URL:https://www.espacioelsa.com
X-WR-CALDESC:Eventos para Espacio Elsa
BEGIN:VTIMEZONE
TZID:Europe/Madrid
BEGIN:DAYLIGHT
TZOFFSETFROM:+0100
TZOFFSETTO:+0200
TZNAME:CEST
DTSTART:20190331T010000
END:DAYLIGHT
BEGIN:STANDARD
TZOFFSETFROM:+0200
TZOFFSETTO:+0100
TZNAME:CET
DTSTART:20191027T010000
END:STANDARD
END:VTIMEZONE
BEGIN:VEVENT
DTSTART;TZID=Europe/Madrid:20190530T160000
DTEND;TZID=Europe/Madrid:20190530T200000
DTSTAMP:20260425T113704
CREATED:20190529T094342Z
LAST-MODIFIED:20190529T094342Z
UID:2671-1559232000-1559246400@www.espacioelsa.com
SUMMARY:Taller de GemoAstrología
DESCRIPTION:La GemoAstrologia amplia la visión de la astrología. \nAbre la posibilidad de crear un nuevo mandala de la carta\, a partir de la activación de grados del horóscopo que modifican el mandala astrologico\, ya sea en una Carta Natal\, en una Progresión\, un retorno o un transito. \nCada participante se introduce en el mundo de la astrologia para hallar las herramientas que la vida le ha brindado\, reconocer opciones y alternativas. Encontrar soluciones a situaciones personales y evolucionar hacia la armonía y la felicidad a través de los cristales y la activación de las estrellas fijas. \n  \nSe desarrollaran los siguientes temas: \n1.- La Carta Astral\, herramienta de trabajo personal. \n2.- Algo de Historia\, los Lapidarios. \n3.- Las Gemas o cristales en la tradición astrologica. \n4.- El cuerpo cristalino \n5.- Astrología\, cristales y formas. Reconocimiento y conexión con un dodecaedro de cristal \n6.- Ubicación de gemas en una carta astral. Casas\, aspectos simples\, aspectos compuestos\, situaciones especificas\, estrellas. \n7.- Conexión con otros cristales. \nDuración de 4 horas 16 – 20 horas \nDirigido a cualquier persona que este interesada en conectarse con la esencia de los cristales y el poder que ejercen desde el cosmos. \nRequisitos: \nConocimientos de Astrología (aspectos) \nConocimiento y conexión básica con la energía de los cristales. \nInversión: 70 Euros \nInfo al : 663828575 \n
URL:https://www.espacioelsa.com/evento/taller-de-gemoastrologia/
LOCATION:Sala 2\, C/ Marina\, 132\, BIS\, Barcelona\, Barcelona\, 08013\, Spain
CATEGORIES:Talleres
ATTACH;FMTTYPE=image/jpeg:https://www.espacioelsa.com/wp-content/uploads/2019/05/IMG-20190524-WA0017-e1559122991993.jpg
END:VEVENT
END:VCALENDAR