BEGIN:VCALENDAR
VERSION:2.0
PRODID:-//Espacio Elsa - ECPv5.0.2//NONSGML v1.0//EN
CALSCALE:GREGORIAN
METHOD:PUBLISH
X-WR-CALNAME:Espacio Elsa
X-ORIGINAL-URL:https://www.espacioelsa.com
X-WR-CALDESC:Eventos para Espacio Elsa
BEGIN:VTIMEZONE
TZID:Europe/Madrid
BEGIN:DAYLIGHT
TZOFFSETFROM:+0100
TZOFFSETTO:+0200
TZNAME:CEST
DTSTART:20180325T010000
END:DAYLIGHT
BEGIN:STANDARD
TZOFFSETFROM:+0200
TZOFFSETTO:+0100
TZNAME:CET
DTSTART:20181028T010000
END:STANDARD
END:VTIMEZONE
BEGIN:VEVENT
DTSTART;TZID=Europe/Madrid:20180609T100000
DTEND;TZID=Europe/Madrid:20180610T180000
DTSTAMP:20260426T023433
CREATED:20180512T094350Z
LAST-MODIFIED:20180528T170427Z
UID:1838-1528538400-1528653600@www.espacioelsa.com
SUMMARY:Taller de Autoconocimiento\, El camino del Centro- impartido por Sannyasin project
DESCRIPTION:¿Soy honesto conmigo mismo?\, ¿Quiero cambiar de verdad o vivo tras un mundo de apariencias del que ni siquiera logro darme cuenta?\n¿tengo la valentía suficiente para emprender este viaje?\nEs un auténtico DESAFÍO \nSannyasin Project ayuda a los buscadores espirituales a superar las barreras y los obstáculos que se les van presentando durante el recorrido del sendero.\nNo importa si estás empezando o si estás avanzado\, tampoco importa si eres budista\, hinduista\, chaman o cuál sea tu camino o caminos. \nNo queremos convencerte ni inflarte con técnicas nuevas\, ni siquiera te daremos códigos o normas de conducta\, más bien todo lo contrario. Lo único que nos importa es aligerar tu camino y ayudarte a comprender la verdad que subyace detrás de todos los caminos que es la misma.\n								Ravidharta \n
URL:https://www.espacioelsa.com/evento/taller-de-autoconocimiento-el-camino-del-centro-impartido-por-sannyasin-project/
LOCATION:Sala 2\, C/ Marina\, 132\, BIS\, Barcelona\, Barcelona\, 08013\, Spain
CATEGORIES:Talleres
ATTACH;FMTTYPE=image/jpeg:https://www.espacioelsa.com/wp-content/uploads/2018/05/autoconocimiento-n1-1.jpg
END:VEVENT
END:VCALENDAR