BEGIN:VCALENDAR
VERSION:2.0
PRODID:-//Espacio Elsa - ECPv5.0.2//NONSGML v1.0//EN
CALSCALE:GREGORIAN
METHOD:PUBLISH
X-WR-CALNAME:Espacio Elsa
X-ORIGINAL-URL:https://www.espacioelsa.com
X-WR-CALDESC:Eventos para Espacio Elsa
BEGIN:VTIMEZONE
TZID:Europe/Madrid
BEGIN:DAYLIGHT
TZOFFSETFROM:+0100
TZOFFSETTO:+0200
TZNAME:CEST
DTSTART:20180325T010000
END:DAYLIGHT
BEGIN:STANDARD
TZOFFSETFROM:+0200
TZOFFSETTO:+0100
TZNAME:CET
DTSTART:20181028T010000
END:STANDARD
END:VTIMEZONE
BEGIN:VEVENT
DTSTART;TZID=Europe/Madrid:20180702T203000
DTEND;TZID=Europe/Madrid:20180702T213000
DTSTAMP:20260426T023259
CREATED:20180705T115915Z
LAST-MODIFIED:20180705T115915Z
UID:1931-1530563400-1530567000@www.espacioelsa.com
SUMMARY:Social marketing -Emprendimiento colaborativo
DESCRIPTION:
URL:https://www.espacioelsa.com/evento/social-marketing-emprendimiento-colaborativo-5/
LOCATION:Sala 1\, C/ Marina\, 132\, bajos\, Barcelona\, Barcelona\, 08013\, Spain
CATEGORIES:Conferencias
ATTACH;FMTTYPE=image/jpeg:https://www.espacioelsa.com/wp-content/uploads/2018/06/Socialmarketing-Ivan.jpg
END:VEVENT
END:VCALENDAR