BEGIN:VCALENDAR
VERSION:2.0
PRODID:-//Espacio Elsa - ECPv5.0.2//NONSGML v1.0//EN
CALSCALE:GREGORIAN
METHOD:PUBLISH
X-WR-CALNAME:Espacio Elsa
X-ORIGINAL-URL:https://www.espacioelsa.com
X-WR-CALDESC:Eventos para Espacio Elsa
BEGIN:VTIMEZONE
TZID:Europe/Madrid
BEGIN:DAYLIGHT
TZOFFSETFROM:+0100
TZOFFSETTO:+0200
TZNAME:CEST
DTSTART:20190331T010000
END:DAYLIGHT
BEGIN:STANDARD
TZOFFSETFROM:+0200
TZOFFSETTO:+0100
TZNAME:CET
DTSTART:20191027T010000
END:STANDARD
END:VTIMEZONE
BEGIN:VEVENT
DTSTART;TZID=Europe/Madrid:20190115T200000
DTEND;TZID=Europe/Madrid:20190115T213000
DTSTAMP:20260425T154258
CREATED:20190108T104957Z
LAST-MODIFIED:20190111T155938Z
UID:2324-1547582400-1547587800@www.espacioelsa.com
SUMMARY:Comunicación Interna- 11ª sesión Master con Sandra Lopez y Pep Sivillà
DESCRIPTION:
URL:https://www.espacioelsa.com/evento/social-marketing-emprendimiento-colaborativo-30/
LOCATION:Sala 2\, C/ Marina\, 132\, BIS\, Barcelona\, Barcelona\, 08013\, Spain
CATEGORIES:Conferencias
ATTACH;FMTTYPE=image/jpeg:https://www.espacioelsa.com/wp-content/uploads/2019/01/conferencia-15.10.19.jpg
END:VEVENT
END:VCALENDAR