BEGIN:VCALENDAR
VERSION:2.0
PRODID:-//Espacio Elsa - ECPv5.0.2//NONSGML v1.0//EN
CALSCALE:GREGORIAN
METHOD:PUBLISH
X-WR-CALNAME:Espacio Elsa
X-ORIGINAL-URL:https://www.espacioelsa.com
X-WR-CALDESC:Eventos para Espacio Elsa
BEGIN:VTIMEZONE
TZID:Europe/Madrid
BEGIN:DAYLIGHT
TZOFFSETFROM:+0100
TZOFFSETTO:+0200
TZNAME:CEST
DTSTART:20180325T010000
END:DAYLIGHT
BEGIN:STANDARD
TZOFFSETFROM:+0200
TZOFFSETTO:+0100
TZNAME:CET
DTSTART:20181028T010000
END:STANDARD
END:VTIMEZONE
BEGIN:VEVENT
DTSTART;TZID=Europe/Madrid:20181210T203000
DTEND;TZID=Europe/Madrid:20181210T213000
DTSTAMP:20260425T162513
CREATED:20181104T093050Z
LAST-MODIFIED:20181104T093050Z
UID:2173-1544473800-1544477400@www.espacioelsa.com
SUMMARY:Social marketing -Emprendimiento colaborativo
DESCRIPTION:
URL:https://www.espacioelsa.com/evento/social-marketing-emprendimiento-colaborativo-27/
LOCATION:Sala 1\, C/ Marina\, 132\, bajos\, Barcelona\, Barcelona\, 08013\, Spain
CATEGORIES:Conferencias
ATTACH;FMTTYPE=image/jpeg:https://www.espacioelsa.com/wp-content/uploads/2018/10/Socialmarketing-Ivan.jpg
END:VEVENT
END:VCALENDAR