BEGIN:VCALENDAR
VERSION:2.0
PRODID:-//Espacio Elsa - ECPv5.0.2//NONSGML v1.0//EN
CALSCALE:GREGORIAN
METHOD:PUBLISH
X-WR-CALNAME:Espacio Elsa
X-ORIGINAL-URL:https://www.espacioelsa.com
X-WR-CALDESC:Eventos para Espacio Elsa
BEGIN:VTIMEZONE
TZID:Europe/Madrid
BEGIN:DAYLIGHT
TZOFFSETFROM:+0100
TZOFFSETTO:+0200
TZNAME:CEST
DTSTART:20180325T010000
END:DAYLIGHT
BEGIN:STANDARD
TZOFFSETFROM:+0200
TZOFFSETTO:+0100
TZNAME:CET
DTSTART:20181028T010000
END:STANDARD
END:VTIMEZONE
BEGIN:VEVENT
DTSTART;TZID=Europe/Madrid:20181005T190000
DTEND;TZID=Europe/Madrid:20181005T210000
DTSTAMP:20260425T145516
CREATED:20180926T152514Z
LAST-MODIFIED:20180926T152514Z
UID:2074-1538766000-1538773200@www.espacioelsa.com
SUMMARY:Siete claves para el éxito - Clase de Metafísica por Jordi Trinidad
DESCRIPTION:No hace falta haber asistido a clases anteriores. \nEntrada libre; contribución voluntaria para pagar los gastos de la sala. \nSi tienes alguna pregunta contacta con nosotros a través del correo electrónico: asociacion.metafisica.bcn@hotmail.com \nFacebook: https://www.facebook.com/metafisicabcn \n
URL:https://www.espacioelsa.com/evento/siete-claves-para-el-exito-clase-de-metafisica-por-jordi-trinidad/
LOCATION:Sala 2\, C/ Marina\, 132\, BIS\, Barcelona\, Barcelona\, 08013\, Spain
CATEGORIES:Cursos
ATTACH;FMTTYPE=image/jpeg:https://www.espacioelsa.com/wp-content/uploads/2018/09/metafisica-5oct.jpg
END:VEVENT
END:VCALENDAR