BEGIN:VCALENDAR
VERSION:2.0
PRODID:-//Espacio Elsa - ECPv5.0.2//NONSGML v1.0//EN
CALSCALE:GREGORIAN
METHOD:PUBLISH
X-WR-CALNAME:Espacio Elsa
X-ORIGINAL-URL:https://www.espacioelsa.com
X-WR-CALDESC:Eventos para Espacio Elsa
BEGIN:VTIMEZONE
TZID:Europe/Madrid
BEGIN:DAYLIGHT
TZOFFSETFROM:+0100
TZOFFSETTO:+0200
TZNAME:CEST
DTSTART:20180325T010000
END:DAYLIGHT
BEGIN:STANDARD
TZOFFSETFROM:+0200
TZOFFSETTO:+0100
TZNAME:CET
DTSTART:20181028T010000
END:STANDARD
END:VTIMEZONE
BEGIN:VEVENT
DTSTART;TZID=Europe/Madrid:20180529T190000
DTEND;TZID=Europe/Madrid:20180529T210000
DTSTAMP:20260426T023857
CREATED:20180517T193728Z
LAST-MODIFIED:20180517T193728Z
UID:1851-1527620400-1527627600@www.espacioelsa.com
SUMMARY:Secretos de Riqueza- Conferencia gratuita impartida por Daniel García Calvo
DESCRIPTION:La falta de dinero no es un problema; es sólo el resultado de un conjunto de malas decisiones…\nEl verdadero problema es la falta de conocimientos necesarios para crear riqueza! \n
URL:https://www.espacioelsa.com/evento/secretos-de-riqueza-conferencia-gratuita-impartida-por-daniel-garcia-calvo/
LOCATION:Sala 2\, C/ Marina\, 132\, BIS\, Barcelona\, Barcelona\, 08013\, Spain
CATEGORIES:Conferencias
ATTACH;FMTTYPE=image/jpeg:https://www.espacioelsa.com/wp-content/uploads/2018/05/secretosderiqueza.jpg
ORGANIZER;CN="Dpto.%20Eventos%20%28Daniel%20Garc%C3%ADa%20Calvo%29":MAILTO:eventos@secretosderiqueza.com
END:VEVENT
END:VCALENDAR