BEGIN:VCALENDAR
VERSION:2.0
PRODID:-//Espacio Elsa - ECPv5.0.2//NONSGML v1.0//EN
CALSCALE:GREGORIAN
METHOD:PUBLISH
X-WR-CALNAME:Espacio Elsa
X-ORIGINAL-URL:https://www.espacioelsa.com
X-WR-CALDESC:Eventos para Espacio Elsa
BEGIN:VTIMEZONE
TZID:Europe/Madrid
BEGIN:DAYLIGHT
TZOFFSETFROM:+0100
TZOFFSETTO:+0200
TZNAME:CEST
DTSTART:20180325T010000
END:DAYLIGHT
BEGIN:STANDARD
TZOFFSETFROM:+0200
TZOFFSETTO:+0100
TZNAME:CET
DTSTART:20181028T010000
END:STANDARD
END:VTIMEZONE
BEGIN:VEVENT
DTSTART;TZID=Europe/Madrid:20181130T190000
DTEND;TZID=Europe/Madrid:20181130T210000
DTSTAMP:20260425T145436
CREATED:20181126T154945Z
LAST-MODIFIED:20181126T154945Z
UID:2257-1543604400-1543611600@www.espacioelsa.com
SUMMARY:Secretos de Riqueza- Conferencia gratuita impartida por Daniel García Calvo
DESCRIPTION:Para poder Cambiar Tu Suerte y empezar a Mejorar Tu Futuro Económico Necesitas a Alguien que Te Guíe (a poder ser\, Alguien que YA sea RICO) \n
URL:https://www.espacioelsa.com/evento/secretos-de-riqueza-conferencia-gratuita-impartida-por-daniel-garcia-calvo-2/
LOCATION:Sala 1\, C/ Marina\, 132\, bajos\, Barcelona\, Barcelona\, 08013\, Spain
CATEGORIES:Conferencias
ATTACH;FMTTYPE=image/jpeg:https://www.espacioelsa.com/wp-content/uploads/2018/11/secretosderiqueza.jpg
ORGANIZER;CN="Dpto.%20Eventos%20%28Daniel%20Garc%C3%ADa%20Calvo%29":MAILTO:eventos@secretosderiqueza.com
END:VEVENT
END:VCALENDAR