BEGIN:VCALENDAR
VERSION:2.0
PRODID:-//Espacio Elsa - ECPv5.0.2//NONSGML v1.0//EN
CALSCALE:GREGORIAN
METHOD:PUBLISH
X-WR-CALNAME:Espacio Elsa
X-ORIGINAL-URL:https://www.espacioelsa.com
X-WR-CALDESC:Eventos para Espacio Elsa
BEGIN:VTIMEZONE
TZID:Europe/Madrid
BEGIN:DAYLIGHT
TZOFFSETFROM:+0100
TZOFFSETTO:+0200
TZNAME:CEST
DTSTART:20180325T010000
END:DAYLIGHT
BEGIN:STANDARD
TZOFFSETFROM:+0200
TZOFFSETTO:+0100
TZNAME:CET
DTSTART:20181028T010000
END:STANDARD
END:VTIMEZONE
BEGIN:VEVENT
DTSTART;TZID=Europe/Madrid:20181124T103000
DTEND;TZID=Europe/Madrid:20181125T200000
DTSTAMP:20260425T192754
CREATED:20181105T211325Z
LAST-MODIFIED:20181105T211325Z
UID:2226-1543055400-1543176000@www.espacioelsa.com
SUMMARY:Sanación de relaciones - Curso intensivo con Giovanna Kobau
DESCRIPTION:\n\nLa sanación de las relaciones es la sanación de la vida\, porque la vida son relaciones.  \nLas relaciones influyen en la salud\, en la vida emocional\, en el ámbito económico y en la felicidad\, afectan después a tu forma de ver el mundo\, la vida y al resto de relaciones. \n\n\n
URL:https://www.espacioelsa.com/evento/sanacion-de-relaciones-curso-intensivo-con-giovanna-kobau/
LOCATION:Sala 2\, C/ Marina\, 132\, BIS\, Barcelona\, Barcelona\, 08013\, Spain
CATEGORIES:Cursos
ATTACH;FMTTYPE=image/jpeg:https://www.espacioelsa.com/wp-content/uploads/2018/11/giovanna-relaciones.jpg
ORGANIZER;CN="Giovanna%20Kobau":MAILTO:giovannak2025@yahoo.es
END:VEVENT
END:VCALENDAR