BEGIN:VCALENDAR
VERSION:2.0
PRODID:-//Espacio Elsa - ECPv5.0.2//NONSGML v1.0//EN
CALSCALE:GREGORIAN
METHOD:PUBLISH
X-WR-CALNAME:Espacio Elsa
X-ORIGINAL-URL:https://www.espacioelsa.com
X-WR-CALDESC:Eventos para Espacio Elsa
BEGIN:VTIMEZONE
TZID:Europe/Madrid
BEGIN:DAYLIGHT
TZOFFSETFROM:+0100
TZOFFSETTO:+0200
TZNAME:CEST
DTSTART:20180325T010000
END:DAYLIGHT
BEGIN:STANDARD
TZOFFSETFROM:+0200
TZOFFSETTO:+0100
TZNAME:CET
DTSTART:20181028T010000
END:STANDARD
END:VTIMEZONE
BEGIN:VEVENT
DTSTART;TZID=Europe/Madrid:20180628T093000
DTEND;TZID=Europe/Madrid:20180701T180000
DTSTAMP:20260426T004639
CREATED:20180608T162518Z
LAST-MODIFIED:20180608T162518Z
UID:1904-1530178200-1530468000@www.espacioelsa.com
SUMMARY:Procesamiento emocional - Psicoterapia Sensoriomotriz Nivel 2
DESCRIPTION:
URL:https://www.espacioelsa.com/evento/procesamiento-emocional-psicoterapia-sensoriomotriz-nivel-2/
LOCATION:Sala 1\, C/ Marina\, 132\, bajos\, Barcelona\, Barcelona\, 08013\, Spain
CATEGORIES:Cursos
ATTACH;FMTTYPE=image/jpeg:https://www.espacioelsa.com/wp-content/uploads/2018/06/sensorio2.jpg
END:VEVENT
END:VCALENDAR