BEGIN:VCALENDAR
VERSION:2.0
PRODID:-//Espacio Elsa - ECPv5.0.2//NONSGML v1.0//EN
CALSCALE:GREGORIAN
METHOD:PUBLISH
X-WR-CALNAME:Espacio Elsa
X-ORIGINAL-URL:https://www.espacioelsa.com
X-WR-CALDESC:Eventos para Espacio Elsa
BEGIN:VTIMEZONE
TZID:Europe/Madrid
BEGIN:DAYLIGHT
TZOFFSETFROM:+0100
TZOFFSETTO:+0200
TZNAME:CEST
DTSTART:20180325T010000
END:DAYLIGHT
BEGIN:STANDARD
TZOFFSETFROM:+0200
TZOFFSETTO:+0100
TZNAME:CET
DTSTART:20181028T010000
END:STANDARD
END:VTIMEZONE
BEGIN:VEVENT
DTSTART;TZID=Europe/Madrid:20181002T200000
DTEND;TZID=Europe/Madrid:20181002T213000
DTSTAMP:20260425T144744
CREATED:20181002T121640Z
LAST-MODIFIED:20181002T121640Z
UID:2088-1538510400-1538515800@www.espacioelsa.com
SUMMARY:Presentación Master por Talent Creatiu
DESCRIPTION:
URL:https://www.espacioelsa.com/evento/presentacion-master-por-talent-creatiu/
LOCATION:Sala 1\, C/ Marina\, 132\, bajos\, Barcelona\, Barcelona\, 08013\, Spain
CATEGORIES:Conferencias
ATTACH;FMTTYPE=image/jpeg:https://www.espacioelsa.com/wp-content/uploads/2018/10/c.fornell-master.jpg
ORGANIZER;CN="Carme%20Fornell":MAILTO:carme@mileni.net
END:VEVENT
END:VCALENDAR