BEGIN:VCALENDAR
VERSION:2.0
PRODID:-//Espacio Elsa - ECPv5.0.2//NONSGML v1.0//EN
CALSCALE:GREGORIAN
METHOD:PUBLISH
X-WR-CALNAME:Espacio Elsa
X-ORIGINAL-URL:https://www.espacioelsa.com
X-WR-CALDESC:Eventos para Espacio Elsa
BEGIN:VTIMEZONE
TZID:Europe/Madrid
BEGIN:DAYLIGHT
TZOFFSETFROM:+0100
TZOFFSETTO:+0200
TZNAME:CEST
DTSTART:20180325T010000
END:DAYLIGHT
BEGIN:STANDARD
TZOFFSETFROM:+0200
TZOFFSETTO:+0100
TZNAME:CET
DTSTART:20181028T010000
END:STANDARD
END:VTIMEZONE
BEGIN:VEVENT
DTSTART;TZID=Europe/Madrid:20180622T190000
DTEND;TZID=Europe/Madrid:20180622T210000
DTSTAMP:20260425T225507
CREATED:20180604T202456Z
LAST-MODIFIED:20180604T202456Z
UID:1888-1529694000-1529701200@www.espacioelsa.com
SUMMARY:Pon Magia en tu vida- Clase de Metafísica impartida por Beatriz Calvo
DESCRIPTION:No hace falta haber asistido a las clases anteriores. \nEntrada libre; contribución voluntaria para pagar los gastos de la sala. \nSi tienes alguna pregunta contacta con nosotros a través del correo electrónico: asociacion.metafisica.bcn@hotmail.com \nFacebook: https://www.facebook.com/metafisicabcn \n
URL:https://www.espacioelsa.com/evento/pon-magia-en-tu-vida-clase-de-metafisica-impartida-por-beatriz-calvo/
LOCATION:Sala 2\, C/ Marina\, 132\, BIS\, Barcelona\, Barcelona\, 08013\, Spain
CATEGORIES:Cursos
ATTACH;FMTTYPE=image/jpeg:https://www.espacioelsa.com/wp-content/uploads/2018/06/metafisica-22jun.jpg
ORGANIZER;CN="Beatriz%20Calvo-%20Asociaci%C3%B3n%20de%20Metaf%C3%ADsica%20de%20Barcelona":MAILTO:asociacion.metafisica.bcn@hotmail.com
END:VEVENT
END:VCALENDAR