BEGIN:VCALENDAR
VERSION:2.0
PRODID:-//Espacio Elsa - ECPv5.0.2//NONSGML v1.0//EN
CALSCALE:GREGORIAN
METHOD:PUBLISH
X-WR-CALNAME:Espacio Elsa
X-ORIGINAL-URL:https://www.espacioelsa.com
X-WR-CALDESC:Eventos para Espacio Elsa
BEGIN:VTIMEZONE
TZID:Europe/Madrid
BEGIN:DAYLIGHT
TZOFFSETFROM:+0100
TZOFFSETTO:+0200
TZNAME:CEST
DTSTART:20180325T010000
END:DAYLIGHT
BEGIN:STANDARD
TZOFFSETFROM:+0200
TZOFFSETTO:+0100
TZNAME:CET
DTSTART:20181028T010000
END:STANDARD
END:VTIMEZONE
BEGIN:VEVENT
DTSTART;TZID=Europe/Madrid:20180914T190000
DTEND;TZID=Europe/Madrid:20180914T210000
DTSTAMP:20260425T154405
CREATED:20180727T165241Z
LAST-MODIFIED:20180727T165241Z
UID:1976-1536951600-1536958800@www.espacioelsa.com
SUMMARY:Plataforma de la Metafísica- Clase impartida por Teresa Comino
DESCRIPTION:No hace falta haber asistido a clases anteriores. \nEntrada libre; contribución voluntaria para pagar los gastos de la sala. \nSi tienes alguna pregunta contacta con nosotros a través del correo electrónico: asociacion.metafisica.bcn@hotmail.com \nFacebook: https://www.facebook.com/metafisicabcn \n
URL:https://www.espacioelsa.com/evento/plataforma-de-la-metafisica-clase-impartida-por-teresa-comino/
LOCATION:Sala 1\, C/ Marina\, 132\, bajos\, Barcelona\, Barcelona\, 08013\, Spain
CATEGORIES:Cursos
ATTACH;FMTTYPE=image/jpeg:https://www.espacioelsa.com/wp-content/uploads/2018/07/metafisica-14sep.jpg
END:VEVENT
END:VCALENDAR