BEGIN:VCALENDAR
VERSION:2.0
PRODID:-//Espacio Elsa - ECPv5.0.2//NONSGML v1.0//EN
CALSCALE:GREGORIAN
METHOD:PUBLISH
X-WR-CALNAME:Espacio Elsa
X-ORIGINAL-URL:https://www.espacioelsa.com
X-WR-CALDESC:Eventos para Espacio Elsa
BEGIN:VTIMEZONE
TZID:Europe/Madrid
BEGIN:DAYLIGHT
TZOFFSETFROM:+0100
TZOFFSETTO:+0200
TZNAME:CEST
DTSTART:20190331T010000
END:DAYLIGHT
BEGIN:STANDARD
TZOFFSETFROM:+0200
TZOFFSETTO:+0100
TZNAME:CET
DTSTART:20191027T010000
END:STANDARD
END:VTIMEZONE
BEGIN:VEVENT
DTSTART;TZID=Europe/Madrid:20190202T180000
DTEND;TZID=Europe/Madrid:20190202T210000
DTSTAMP:20260425T134044
CREATED:20181119T205940Z
LAST-MODIFIED:20181119T205940Z
UID:2237-1549130400-1549141200@www.espacioelsa.com
SUMMARY:Placer de la vida- Clase de metafísica en Barcelona impartida por Rubén Cedeño
DESCRIPTION:\nNo hace falta haber asistido a las clases anteriores. \nEntrada libre; contribución voluntaria para pagar los gastos de la sala. \nSi tienes alguna pregunta contacta con nosotros a través del correo electrónico: asociacion.metafisica.bcn@hotmail.com \nFacebook: https://www.facebook.com/metafisicabcn \n\n
URL:https://www.espacioelsa.com/evento/placer-de-la-vida-clase-de-metafisica-en-barcelona-impartida-por-ruben-cedeno/
LOCATION:Sala 1\, C/ Marina\, 132\, bajos\, Barcelona\, Barcelona\, 08013\, Spain
CATEGORIES:Cursos
ATTACH;FMTTYPE=image/jpeg:https://www.espacioelsa.com/wp-content/uploads/2018/11/metafisica-2feb.jpeg
END:VEVENT
END:VCALENDAR