BEGIN:VCALENDAR
VERSION:2.0
PRODID:-//Espacio Elsa - ECPv5.0.2//NONSGML v1.0//EN
CALSCALE:GREGORIAN
METHOD:PUBLISH
X-WR-CALNAME:Espacio Elsa
X-ORIGINAL-URL:https://www.espacioelsa.com
X-WR-CALDESC:Eventos para Espacio Elsa
BEGIN:VTIMEZONE
TZID:Europe/Madrid
BEGIN:DAYLIGHT
TZOFFSETFROM:+0100
TZOFFSETTO:+0200
TZNAME:CEST
DTSTART:20180325T010000
END:DAYLIGHT
BEGIN:STANDARD
TZOFFSETFROM:+0200
TZOFFSETTO:+0100
TZNAME:CET
DTSTART:20181028T010000
END:STANDARD
END:VTIMEZONE
BEGIN:VEVENT
DTSTART;TZID=Europe/Madrid:20181227T193000
DTEND;TZID=Europe/Madrid:20181227T203000
DTSTAMP:20260425T191416
CREATED:20181204T182855Z
LAST-MODIFIED:20181204T182855Z
UID:2290-1545939000-1545942600@www.espacioelsa.com
SUMMARY:Meditación para conectar con la Abundancia y la Prosperidad - Especial Ritual de Fin de Año con Sonia Arcos
DESCRIPTION:En nuestro día a día estamos rodeados de impactos en los medios de comunicación que nos conectan con la carencia y miedo. Necesitamos vaciar nuestra mente de todos esos pensamientos y llenarla con pensamientos de abundancia\, de conexión con lo que verdaderamente somos\, para desde ahí crear nuestra realidad\, y no crearla desde los pensamientos de carencia y miedo con los que nos solemos conectar habitualmente. \n
URL:https://www.espacioelsa.com/evento/meditacion-para-conectar-con-la-abundancia-y-la-prosperidad-especial-ritual-de-fin-de-ano-con-sonia-arcos/
LOCATION:Sala 1\, C/ Marina\, 132\, bajos\, Barcelona\, Barcelona\, 08013\, Spain
ATTACH;FMTTYPE=image/jpeg:https://www.espacioelsa.com/wp-content/uploads/2018/12/sonia-findeaño.jpg
END:VEVENT
END:VCALENDAR