BEGIN:VCALENDAR
VERSION:2.0
PRODID:-//Espacio Elsa - ECPv5.0.2//NONSGML v1.0//EN
CALSCALE:GREGORIAN
METHOD:PUBLISH
X-WR-CALNAME:Espacio Elsa
X-ORIGINAL-URL:https://www.espacioelsa.com
X-WR-CALDESC:Eventos para Espacio Elsa
BEGIN:VTIMEZONE
TZID:Europe/Madrid
BEGIN:DAYLIGHT
TZOFFSETFROM:+0100
TZOFFSETTO:+0200
TZNAME:CEST
DTSTART:20180325T010000
END:DAYLIGHT
BEGIN:STANDARD
TZOFFSETFROM:+0200
TZOFFSETTO:+0100
TZNAME:CET
DTSTART:20181028T010000
END:STANDARD
END:VTIMEZONE
BEGIN:VEVENT
DTSTART;TZID=Europe/Madrid:20180827T190000
DTEND;TZID=Europe/Madrid:20180827T210000
DTSTAMP:20260425T205719
CREATED:20180814T162226Z
LAST-MODIFIED:20180814T162226Z
UID:2009-1535396400-1535403600@www.espacioelsa.com
SUMMARY:Meditación de la bendición de útero con Ho´oponopono- imparte Sonia Arcos
DESCRIPTION:En el útero las mujeres guardamos todas las memorias heredadas que nos impiden estar en paz con nuestra feminidad.\nCon esta meditación las mujeres haremos limpieza de de estas memorias. \n
URL:https://www.espacioelsa.com/evento/meditacion-de-la-bendicion-de-utero-con-hooponopono-imparte-sonia-arcos/
LOCATION:Sala 2\, C/ Marina\, 132\, BIS\, Barcelona\, Barcelona\, 08013\, Spain
ATTACH;FMTTYPE=image/jpeg:https://www.espacioelsa.com/wp-content/uploads/2018/08/sonia-bendicion.jpg
END:VEVENT
END:VCALENDAR