BEGIN:VCALENDAR
VERSION:2.0
PRODID:-//Espacio Elsa - ECPv5.0.2//NONSGML v1.0//EN
CALSCALE:GREGORIAN
METHOD:PUBLISH
X-WR-CALNAME:Espacio Elsa
X-ORIGINAL-URL:https://www.espacioelsa.com
X-WR-CALDESC:Eventos para Espacio Elsa
BEGIN:VTIMEZONE
TZID:Europe/Madrid
BEGIN:DAYLIGHT
TZOFFSETFROM:+0100
TZOFFSETTO:+0200
TZNAME:CEST
DTSTART:20180325T010000
END:DAYLIGHT
BEGIN:STANDARD
TZOFFSETFROM:+0200
TZOFFSETTO:+0100
TZNAME:CET
DTSTART:20181028T010000
END:STANDARD
END:VTIMEZONE
BEGIN:VEVENT
DTSTART;TZID=Europe/Madrid:20181109T190000
DTEND;TZID=Europe/Madrid:20181109T213000
DTSTAMP:20260425T220104
CREATED:20181103T092121Z
LAST-MODIFIED:20181103T092121Z
UID:2159-1541790000-1541799000@www.espacioelsa.com
SUMMARY:Masterclass Shakti Dance- impartido Equipo formación de Shakti Dance España
DESCRIPTION:\n\n\n\nMasterclass de Shakti Dance y Presentación de la Formación Internacional de Profesores de Shakti Dance\, impartidas por el equipo formador de España. \nOrganiza Shunia Yoga. \n\n\n\n\n
URL:https://www.espacioelsa.com/evento/masterclass-shakti-dance-impartido-equipo-formacion-de-shakti-dance-espana/
LOCATION:Sala 1\, C/ Marina\, 132\, bajos\, Barcelona\, Barcelona\, 08013\, Spain
CATEGORIES:Talleres
ATTACH;FMTTYPE=image/jpeg:https://www.espacioelsa.com/wp-content/uploads/2018/11/shuniayoga.jpg
END:VEVENT
END:VCALENDAR