BEGIN:VCALENDAR
VERSION:2.0
PRODID:-//Espacio Elsa - ECPv5.0.2//NONSGML v1.0//EN
CALSCALE:GREGORIAN
METHOD:PUBLISH
X-WR-CALNAME:Espacio Elsa
X-ORIGINAL-URL:https://www.espacioelsa.com
X-WR-CALDESC:Eventos para Espacio Elsa
BEGIN:VTIMEZONE
TZID:Europe/Madrid
BEGIN:DAYLIGHT
TZOFFSETFROM:+0100
TZOFFSETTO:+0200
TZNAME:CEST
DTSTART:20190331T010000
END:DAYLIGHT
BEGIN:STANDARD
TZOFFSETFROM:+0200
TZOFFSETTO:+0100
TZNAME:CET
DTSTART:20191027T010000
END:STANDARD
END:VTIMEZONE
BEGIN:VEVENT
DTSTART;TZID=Europe/Madrid:20190322T180000
DTEND;TZID=Europe/Madrid:20190322T180000
DTSTAMP:20260425T112331
CREATED:20190301T100508Z
LAST-MODIFIED:20190301T100508Z
UID:2478-1553277600-1553277600@www.espacioelsa.com
SUMMARY:Masterclass gratuita con Sadhana Singh
DESCRIPTION:El Arte de y la Ciencia para Vivir desde el Potencial – Parte 1 \n¿Cuáles son los Obstáculos para Manifestarlo? \nReserva tu plaza!! \ninfo@shuniayoga.com \n932 658 926 \n
URL:https://www.espacioelsa.com/evento/masterclass-gratuita-con-sadhana-singh/
LOCATION:Sala 1\, C/ Marina\, 132\, bajos\, Barcelona\, Barcelona\, 08013\, Spain
CATEGORIES:Cursos
ATTACH;FMTTYPE=image/jpeg:https://www.espacioelsa.com/wp-content/uploads/2019/03/Kumar-2-de-marzo.jpg
END:VEVENT
END:VCALENDAR