BEGIN:VCALENDAR
VERSION:2.0
PRODID:-//Espacio Elsa - ECPv5.0.2//NONSGML v1.0//EN
CALSCALE:GREGORIAN
METHOD:PUBLISH
X-WR-CALNAME:Espacio Elsa
X-ORIGINAL-URL:https://www.espacioelsa.com
X-WR-CALDESC:Eventos para Espacio Elsa
BEGIN:VTIMEZONE
TZID:Europe/Madrid
BEGIN:DAYLIGHT
TZOFFSETFROM:+0100
TZOFFSETTO:+0200
TZNAME:CEST
DTSTART:20180325T010000
END:DAYLIGHT
BEGIN:STANDARD
TZOFFSETFROM:+0200
TZOFFSETTO:+0100
TZNAME:CET
DTSTART:20181028T010000
END:STANDARD
END:VTIMEZONE
BEGIN:VEVENT
DTSTART;TZID=Europe/Madrid:20180714T100000
DTEND;TZID=Europe/Madrid:20180715T200000
DTSTAMP:20260425T232501
CREATED:20180705T155728Z
LAST-MODIFIED:20180705T155728Z
UID:1941-1531562400-1531684800@www.espacioelsa.com
SUMMARY:Limpieza Astral - Curso impartido por Toni Mora
DESCRIPTION:Alguna vez te has preguntado:\n¿Por qué no fluye mi vida como debiera?\n¿Por qué vivo una constante carrera de obstáculos? \n
URL:https://www.espacioelsa.com/evento/limpieza-astral-curso-impartido-por-toni-mora-2/
LOCATION:Sala 1\, C/ Marina\, 132\, bajos\, Barcelona\, Barcelona\, 08013\, Spain
CATEGORIES:Talleres
ATTACH;FMTTYPE=image/jpeg:https://www.espacioelsa.com/wp-content/uploads/2018/07/limpieza-tonimora.jpg
END:VEVENT
END:VCALENDAR