BEGIN:VCALENDAR
VERSION:2.0
PRODID:-//Espacio Elsa - ECPv5.0.2//NONSGML v1.0//EN
CALSCALE:GREGORIAN
METHOD:PUBLISH
X-WR-CALNAME:Espacio Elsa
X-ORIGINAL-URL:https://www.espacioelsa.com
X-WR-CALDESC:Eventos para Espacio Elsa
BEGIN:VTIMEZONE
TZID:Europe/Madrid
BEGIN:DAYLIGHT
TZOFFSETFROM:+0100
TZOFFSETTO:+0200
TZNAME:CEST
DTSTART:20190331T010000
END:DAYLIGHT
BEGIN:STANDARD
TZOFFSETFROM:+0200
TZOFFSETTO:+0100
TZNAME:CET
DTSTART:20191027T010000
END:STANDARD
END:VTIMEZONE
BEGIN:VEVENT
DTSTART;TZID=Europe/Madrid:20190531T193000
DTEND;TZID=Europe/Madrid:20190531T213000
DTSTAMP:20260425T112545
CREATED:20190410T112913Z
LAST-MODIFIED:20190410T112913Z
UID:2559-1559331000-1559338200@www.espacioelsa.com
SUMMARY:Kabbalah y Desarrollo de la Conciencia
DESCRIPTION:Te invitamos a la charla «Kabbalah y Desarrollo de la Conciencia»\, a cargo de Adriana Wortman. \nCreadora de este programa de trabajo práctico y experiencial\, explicará de forma sencilla y accesible\, cómo la Kabbalah\, el saber esotérico que durante tantos siglos ha permanecido como información confidencial sólo reservada para los eruditos e iniciados\, puede entenderse y aplicarse al autoconocimiento y el desarrollo personal. \nSu libro «Kabbalah y Desarrollo de la Conciencia» contiene una guía basada en la formación presencial que viene realizando desde hace bastante tiempo\, y que se impartirá aquí en Barcelona\, a partir de octubre de 2019. \nLa entrada es libre y gratuita\, pero se ruega confirmar asistencia en los teléfonos 971 290 245\, *34 619 611 142\, o en Espacio Elsa. \n
URL:https://www.espacioelsa.com/evento/kabbalah-y-desarrollo-de-la-conciencia/
LOCATION:Sala 2\, C/ Marina\, 132\, BIS\, Barcelona\, Barcelona\, 08013\, Spain
CATEGORIES:Conferencias
ATTACH;FMTTYPE=image/jpeg:https://www.espacioelsa.com/wp-content/uploads/2019/04/Adriana-Cartel-1.jpg
ORGANIZER;CN="Adriana%20Wortman":MAILTO:adrianawortman@gmail.com
END:VEVENT
END:VCALENDAR