BEGIN:VCALENDAR
VERSION:2.0
PRODID:-//Espacio Elsa - ECPv5.0.2//NONSGML v1.0//EN
CALSCALE:GREGORIAN
METHOD:PUBLISH
X-WR-CALNAME:Espacio Elsa
X-ORIGINAL-URL:https://www.espacioelsa.com
X-WR-CALDESC:Eventos para Espacio Elsa
BEGIN:VTIMEZONE
TZID:Europe/Madrid
BEGIN:DAYLIGHT
TZOFFSETFROM:+0100
TZOFFSETTO:+0200
TZNAME:CEST
DTSTART:20190331T010000
END:DAYLIGHT
BEGIN:STANDARD
TZOFFSETFROM:+0200
TZOFFSETTO:+0100
TZNAME:CET
DTSTART:20191027T010000
END:STANDARD
END:VTIMEZONE
BEGIN:VEVENT
DTSTART;TZID=Europe/Madrid:20190223T160000
DTEND;TZID=Europe/Madrid:20190223T193000
DTSTAMP:20260425T130217
CREATED:20190220T111836Z
LAST-MODIFIED:20190220T111926Z
UID:2429-1550937600-1550950200@www.espacioelsa.com
SUMMARY:Junta de Sabores & Colores
DESCRIPTION:Contacto: Beatriz García \nTeléfono 688329743 \nPlazas Limitadas!! \n
URL:https://www.espacioelsa.com/evento/junta-de-sabores-e-colores/
LOCATION:Sala 2\, C/ Marina\, 132\, BIS\, Barcelona\, Barcelona\, 08013\, Spain
CATEGORIES:Talleres
ATTACH;FMTTYPE=image/jpeg:https://www.espacioelsa.com/wp-content/uploads/2019/02/WhatsApp-Image-2019-02-19-at-13.24.27.jpeg
END:VEVENT
END:VCALENDAR