BEGIN:VCALENDAR
VERSION:2.0
PRODID:-//Espacio Elsa - ECPv5.0.2//NONSGML v1.0//EN
CALSCALE:GREGORIAN
METHOD:PUBLISH
X-WR-CALNAME:Espacio Elsa
X-ORIGINAL-URL:https://www.espacioelsa.com
X-WR-CALDESC:Eventos para Espacio Elsa
BEGIN:VTIMEZONE
TZID:Europe/Madrid
BEGIN:DAYLIGHT
TZOFFSETFROM:+0100
TZOFFSETTO:+0200
TZNAME:CEST
DTSTART:20190331T010000
END:DAYLIGHT
BEGIN:STANDARD
TZOFFSETFROM:+0200
TZOFFSETTO:+0100
TZNAME:CET
DTSTART:20191027T010000
END:STANDARD
END:VTIMEZONE
BEGIN:VEVENT
DTSTART;VALUE=DATE:20190502
DTEND;VALUE=DATE:20190503
DTSTAMP:20260425T113908
CREATED:20190411T135859Z
LAST-MODIFIED:20190411T135859Z
UID:2578-1556755200-1556841599@www.espacioelsa.com
SUMMARY:Formación ATB – Tomar conciencia a través del cuerpo
DESCRIPTION:Fomentar la concentración\,  la relajación\, el observador interno y el autodescubrimiento de forma creativa. \nATB I: Atención y autoexploración – 1 y 2 de mayo \nATB II: Conexión interior y juego grupal – 3 de mayo \nATB Herramientas Básicas: A partir de 4 hasta  años – 6 de mayo \nATB III: Presencia plena y aplicaciones – 10 de mayo \n  \nInscripciones: \natb.educacio22@gmail.com \nwww.educacio22.com \n
URL:https://www.espacioelsa.com/evento/formacion-atb-tomar-conciencia-a-traves-del-cuerpo-2/
LOCATION:Sala 1\, C/ Marina\, 132\, bajos\, Barcelona\, Barcelona\, 08013\, Spain
CATEGORIES:Cursos
ATTACH;FMTTYPE=image/jpeg:https://www.espacioelsa.com/wp-content/uploads/2019/04/Cartell-ATB-2019.jpg
ORGANIZER;CN="Educaci%C3%B3%2022":MAILTO:atb.educacio22@gmail.com
END:VEVENT
END:VCALENDAR