BEGIN:VCALENDAR
VERSION:2.0
PRODID:-//Espacio Elsa - ECPv5.0.2//NONSGML v1.0//EN
CALSCALE:GREGORIAN
METHOD:PUBLISH
X-WR-CALNAME:Espacio Elsa
X-ORIGINAL-URL:https://www.espacioelsa.com
X-WR-CALDESC:Eventos para Espacio Elsa
BEGIN:VTIMEZONE
TZID:Europe/Madrid
BEGIN:DAYLIGHT
TZOFFSETFROM:+0100
TZOFFSETTO:+0200
TZNAME:CEST
DTSTART:20180325T010000
END:DAYLIGHT
BEGIN:STANDARD
TZOFFSETFROM:+0200
TZOFFSETTO:+0100
TZNAME:CET
DTSTART:20181028T010000
END:STANDARD
END:VTIMEZONE
BEGIN:VEVENT
DTSTART;TZID=Europe/Madrid:20181218T200000
DTEND;TZID=Europe/Madrid:20181218T213000
DTSTAMP:20260425T163802
CREATED:20181212T161541Z
LAST-MODIFIED:20181212T161541Z
UID:2307-1545163200-1545168600@www.espacioelsa.com
SUMMARY:El Potencial Económico- 9ª sesión Master con José Barragán y Joaquin Sivillà
DESCRIPTION:
URL:https://www.espacioelsa.com/evento/el-potencial-economico-9a-sesion-master-con-jose-barragan-y-joaquin-sivilla/
LOCATION:Sala 2\, C/ Marina\, 132\, BIS\, Barcelona\, Barcelona\, 08013\, Spain
CATEGORIES:Conferencias
ATTACH;FMTTYPE=image/jpeg:https://www.espacioelsa.com/wp-content/uploads/2018/12/carmeFornell-18dic.jpg
END:VEVENT
END:VCALENDAR