BEGIN:VCALENDAR
VERSION:2.0
PRODID:-//Espacio Elsa - ECPv5.0.2//NONSGML v1.0//EN
CALSCALE:GREGORIAN
METHOD:PUBLISH
X-WR-CALNAME:Espacio Elsa
X-ORIGINAL-URL:https://www.espacioelsa.com
X-WR-CALDESC:Eventos para Espacio Elsa
BEGIN:VTIMEZONE
TZID:Europe/Madrid
BEGIN:DAYLIGHT
TZOFFSETFROM:+0100
TZOFFSETTO:+0200
TZNAME:CEST
DTSTART:20180325T010000
END:DAYLIGHT
BEGIN:STANDARD
TZOFFSETFROM:+0200
TZOFFSETTO:+0100
TZNAME:CET
DTSTART:20181028T010000
END:STANDARD
END:VTIMEZONE
BEGIN:VEVENT
DTSTART;TZID=Europe/Madrid:20180915T093000
DTEND;TZID=Europe/Madrid:20180916T200000
DTSTAMP:20260425T173617
CREATED:20180813T203158Z
LAST-MODIFIED:20180813T203158Z
UID:2004-1537003800-1537128000@www.espacioelsa.com
SUMMARY:El arte de Amar- Taller de iniciación al Tantra- imparte Amerai
DESCRIPTION:A través del taller de iniciación al tantra y con el uso de herramientas y conocimientos tanto antiguos como modernos\, nos despojamos de todo aquello que ya no nos sirve para aprender a vivir la vida con autenticidad y alegría. El Tantra te ayuda a mover y a canalizar tu energía\, despertando tu consciencia para convertirte en una persona más equilibrada\, presente y capaz de integrar cualquier vivencia como parte de tu experiencia. \n
URL:https://www.espacioelsa.com/evento/el-arte-de-amar-taller-de-iniciacion-al-tantra-imparte-amerai/
LOCATION:Sala 1\, C/ Marina\, 132\, bajos\, Barcelona\, Barcelona\, 08013\, Spain
CATEGORIES:Talleres
ATTACH;FMTTYPE=image/jpeg:https://www.espacioelsa.com/wp-content/uploads/2018/08/amerai-tantra.jpg
END:VEVENT
END:VCALENDAR