BEGIN:VCALENDAR
VERSION:2.0
PRODID:-//Espacio Elsa - ECPv5.0.2//NONSGML v1.0//EN
CALSCALE:GREGORIAN
METHOD:PUBLISH
X-WR-CALNAME:Espacio Elsa
X-ORIGINAL-URL:https://www.espacioelsa.com
X-WR-CALDESC:Eventos para Espacio Elsa
BEGIN:VTIMEZONE
TZID:Europe/Madrid
BEGIN:DAYLIGHT
TZOFFSETFROM:+0100
TZOFFSETTO:+0200
TZNAME:CEST
DTSTART:20180325T010000
END:DAYLIGHT
BEGIN:STANDARD
TZOFFSETFROM:+0200
TZOFFSETTO:+0100
TZNAME:CET
DTSTART:20181028T010000
END:STANDARD
END:VTIMEZONE
BEGIN:VEVENT
DTSTART;TZID=Europe/Madrid:20180907T093000
DTEND;TZID=Europe/Madrid:20180909T180000
DTSTAMP:20260425T185411
CREATED:20180821T100138Z
LAST-MODIFIED:20180821T100239Z
UID:2033-1536312600-1536516000@www.espacioelsa.com
SUMMARY:Desregulación afectiva-Psicoterapia sensoriomotriz Nivel I
DESCRIPTION:El nivel I del programa de formación de Psicoterapia Sensoriomotriz en Regulación del Afecto\, Apego y Trauma proporciona a los terapeutas una mejor comprensión de los síntomas y temas relacionados con el trauma y el apego traumático\, así como la forma de trabajar con ellos de manera más efectiva.  \n
URL:https://www.espacioelsa.com/evento/desregulacion-afectiva-psicoterapia-sensoriomotriz-nivel-i-2/
LOCATION:Sala 1\, C/ Marina\, 132\, bajos\, Barcelona\, Barcelona\, 08013\, Spain
CATEGORIES:Cursos
ATTACH;FMTTYPE=image/jpeg:https://www.espacioelsa.com/wp-content/uploads/2018/06/sensorio1.jpg
END:VEVENT
END:VCALENDAR