BEGIN:VCALENDAR
VERSION:2.0
PRODID:-//Espacio Elsa - ECPv5.0.2//NONSGML v1.0//EN
CALSCALE:GREGORIAN
METHOD:PUBLISH
X-WR-CALNAME:Espacio Elsa
X-ORIGINAL-URL:https://www.espacioelsa.com
X-WR-CALDESC:Eventos para Espacio Elsa
BEGIN:VTIMEZONE
TZID:Europe/Madrid
BEGIN:DAYLIGHT
TZOFFSETFROM:+0100
TZOFFSETTO:+0200
TZNAME:CEST
DTSTART:20190331T010000
END:DAYLIGHT
BEGIN:STANDARD
TZOFFSETFROM:+0200
TZOFFSETTO:+0100
TZNAME:CET
DTSTART:20191027T010000
END:STANDARD
END:VTIMEZONE
BEGIN:VEVENT
DTSTART;TZID=Europe/Madrid:20190703T080000
DTEND;TZID=Europe/Madrid:20190703T193000
DTSTAMP:20260425T135226
CREATED:20190702T171805Z
LAST-MODIFIED:20190702T171805Z
UID:2780-1562140800-1562182200@www.espacioelsa.com
SUMMARY:CURSO UN VIAJE AL DESPERTAR
DESCRIPTION:Este es un curso de 1 día diseñado por Sri Amma Bhagavan para dar a la humanidad\, el regalo del despertar de consciencia. \nEste evento se hará simultáneamente en más de 100 ciudades europeas ( 14 paises ). \nEl curso serán impartido principalmente por la Bhagavad Dasa; Tejasaji\, que es una de las guias principales que están impartiendo los cursos de Sri Amma Bhagavan en el mundo en estos momentos. Y también colaborará algún otro maestro – dasa de Sri Amma Bhagavan. \nTanto en el curso del dia 3 de julio\, como en el curso del día 6 de agosto; tendrán lugar profundos procesos de transformación y sanación\, que llevarán a las personas a experimentar la vida desde un estado de mayor alegría y felicidad. \nALGUNAS DE LAS COSAS QUE PUEDEN SUCEDER AL DESPERTAR: \n– Mayor paz\, serenidad\, alegría\, amor\, creatividad y conexión. \n– Una transformación neurobiológica\, que da lugar a un cambio en la percepción de la realidad. \n– Mucha más claridad \n– Aumenta la conexión con tu Ser Superior y con la Luz y Amor Supremos\, con lo cual se facilita que se comiencen a cumplir tus deseos. \n– Comienzas a experimentar el estado de amor sin causa \n– Comienzas a experimentar el estado de felicidad sin causa \n– Comienzas a experimentar el estado de libertad \n– Las relaciones se hacen mas hermosas \n– La salud mejora\, ya que muchas enfermedades son psicosomáticas \n– Te vuelves más próspero \n– Al despertar\, la vida mejora en varias areas de forma natural \n– Muchas cosas auspiciosas suceden alrededor de la persona que despierta \n– Se reduce o elimina el sufrimiento personal \n– Disminuyen los juicios y hay más amor \n– Comienzas a disfrutar de la vida y de todo lo que sucede \n– Eres más feliz y no le causas sufrimiento a los demás \n– La gratitud sucede de forma natural \n– Tu despertar beneficia a tu familia\, a tu pais y a toda la humanidad \n– Contribuyes a traer la Era Dorada al planeta\n\n\nHORARIO DE LOS CURSOS:\nRegistro:A las 7.45h\n(Las puertas estarán abiertas a partir de esa hora)\nHorario del curso: De 8.00 am a 19.30 pm\n\n\n\nAPORTACIÓN; \nViaje al Despertar – 3 de julio: precio promocional de 35€\nViaje a la Felicidad – 6 de agosto;\nAl inscribirse antes del 20 de julio; 35€\nAl inscribirse después del 20 de julio: 40€ \n  \nPARA RESERVAR PLAZA:\n \nConfirmar la asistencia\, escribiendo por email a: giovannak2025@yahoo.es\no bien al whatsaaap; 658.058.854 – Giovanna \n  \n\n
URL:https://www.espacioelsa.com/evento/curso-un-viaje-al-despertar/
LOCATION:Sala 1\, C/ Marina\, 132\, bajos\, Barcelona\, Barcelona\, 08013\, Spain
CATEGORIES:Cursos
ATTACH;FMTTYPE=image/jpeg:https://www.espacioelsa.com/wp-content/uploads/2019/07/VIAJE-A-LA-FELICIDAD.CONDIRECCION.YWHATSAAP.CORTADO-e1562087780785.jpg
ORGANIZER;CN="Giovanna%20Kobau":MAILTO:giovannak2025@yahoo.es
END:VEVENT
END:VCALENDAR