BEGIN:VCALENDAR
VERSION:2.0
PRODID:-//Espacio Elsa - ECPv5.0.2//NONSGML v1.0//EN
CALSCALE:GREGORIAN
METHOD:PUBLISH
X-WR-CALNAME:Espacio Elsa
X-ORIGINAL-URL:https://www.espacioelsa.com
X-WR-CALDESC:Eventos para Espacio Elsa
BEGIN:VTIMEZONE
TZID:Europe/Madrid
BEGIN:DAYLIGHT
TZOFFSETFROM:+0100
TZOFFSETTO:+0200
TZNAME:CEST
DTSTART:20180325T010000
END:DAYLIGHT
BEGIN:STANDARD
TZOFFSETFROM:+0200
TZOFFSETTO:+0100
TZNAME:CET
DTSTART:20181028T010000
END:STANDARD
END:VTIMEZONE
BEGIN:VEVENT
DTSTART;TZID=Europe/Madrid:20181023T093000
DTEND;TZID=Europe/Madrid:20181023T113000
DTSTAMP:20260425T181330
CREATED:20181016T153420Z
LAST-MODIFIED:20181016T154003Z
UID:2117-1540287000-1540294200@www.espacioelsa.com
SUMMARY:Cryptomonedas- Conferencia impartida por Francisco Manrubia
DESCRIPTION:Conoce qué son las crytomonedas\, la Blockchain\, las Ico\, los Exchange y las posibilidades financieras que ofrecen. \n
URL:https://www.espacioelsa.com/evento/cryptomonedas-conferencia-impartida-por-francisco-manrubia/
LOCATION:Sala 2\, C/ Marina\, 132\, BIS\, Barcelona\, Barcelona\, 08013\, Spain
CATEGORIES:Conferencias
ATTACH;FMTTYPE=image/jpeg:https://www.espacioelsa.com/wp-content/uploads/2018/10/francesc-cryptomonedas.jpg
END:VEVENT
END:VCALENDAR