BEGIN:VCALENDAR
VERSION:2.0
PRODID:-//Espacio Elsa - ECPv5.0.2//NONSGML v1.0//EN
CALSCALE:GREGORIAN
METHOD:PUBLISH
X-WR-CALNAME:Espacio Elsa
X-ORIGINAL-URL:https://www.espacioelsa.com
X-WR-CALDESC:Eventos para Espacio Elsa
BEGIN:VTIMEZONE
TZID:Europe/Madrid
BEGIN:DAYLIGHT
TZOFFSETFROM:+0100
TZOFFSETTO:+0200
TZNAME:CEST
DTSTART:20190331T010000
END:DAYLIGHT
BEGIN:STANDARD
TZOFFSETFROM:+0200
TZOFFSETTO:+0100
TZNAME:CET
DTSTART:20191027T010000
END:STANDARD
END:VTIMEZONE
BEGIN:VEVENT
DTSTART;TZID=Europe/Madrid:20190622T160000
DTEND;TZID=Europe/Madrid:20190623T180000
DTSTAMP:20260425T154237
CREATED:20190615T111754Z
LAST-MODIFIED:20190615T112321Z
UID:2733-1561219200-1561312800@www.espacioelsa.com
SUMMARY:Seminario Gratuito "CREADORES DE RIQUEZA"
DESCRIPTION:«Re-Conecta con Tu Poder Interior»\nBienvenid@ a «CREADORES DE RIQUEZA» El evento de un día y medio impartido por Daniel Garcia Calvo (Mejor Formador de Crecimiento Personal en España desde 2014 hasta 2019) Daniel ya ha Cambiado la Vida de más de 50.000 personas… \n«CREADORES DE RIQUEZA» es una experiencia de alto impacto que te ayudará a Mejorar Tu Vida en Todos los Sentidos de la Palabra. ¿Estás preparad@ para tener más Éxito\, más Amistades\, más Amor\, más Motivación y SER MÁS FELIZ? \n  \nVen a este Fabuloso Seminario de Daniel García Calvo\n¡¡ 1ª Edición totalmente Gratuita !!\n  \n¿Qué Aprenderás?\n\nCómo funciona la Mente\nCómo sacar Tu Poder Personal a la Luz\nTécnicas para el Auto-conocimiento y la Realización Personal\nCómo Funciona la Ley de Atracción -Científicamente Explicado-\nHerramientas para Visualizar desde el Inconsciente\nReconocer Tu Riqueza Interior para Crear la Vida que Deseas\nCómo soltar Lastres Mentales y Crear Tu Nueva Vida\nLas Claves de la Absoluta Felicidad\nCómo Mejorar Tu Autoestima\nCómo ampliar tu Círculo Social y Mejorar Tus Relaciones Personales\nRe-conectarás con Tu Abundancia Interior\nCómo sentirte más Motivad@ y más Feliz ¡Todos los días!\nExpandir tu Libertad y Tu Amor Personal\nCómo mejorar Tu Economía Personal\nCómo obtener más Paz Interior y Sentirte «en el camino correcto»\n¡¡y MUUUCHO MÁS!!\n\nAprende a conectar con tu poder creador\, conecta con la esencia de la vida\, desata tu poder interior\, siente la ilusión de poner rumbo a tus nuevos objetivos\, crece como persona\, haz nuevas amistades… ¡Obtén una vida con más felicidad! \nVen a «CREADORES DE RIQUEZA» y obtendrás las claves para controlar tu Mente\, tus Emociones\, tus Relaciones\, tus Hábitos y tu Vida. ¡¡Te prometo que será una de las Mejores Experiencias de Toda Tu Vida!! \n¿CONTROLAS TU MENTE? o… ¿TU MENTE TE CONTROLA? \n  \nVen a este Fabuloso Seminario de Daniel García Calvo\n¡¡ 1ª Edición totalmente Gratuita !!\n  \nFECHA DE EVENTO:\n[22 y 23 de JUNIO BARCELONA] \n*SÁBADO (de 16:30h a 20:30h)\n*DOMINGO (de 10:30h a 18:00h) \nReserva tu plaza en el 673 329 047 (whatsapp)\n¡Te esperamos!\n
URL:https://www.espacioelsa.com/evento/creadores-de-riqueza-seminario-gratuito/
LOCATION:Sala 2\, C/ Marina\, 132\, BIS\, Barcelona\, Barcelona\, 08013\, Spain
CATEGORIES:Talleres
ATTACH;FMTTYPE=image/jpeg:https://www.espacioelsa.com/wp-content/uploads/2019/06/FOTO-2-e1560597445854.jpg
ORGANIZER;CN="Dpto.%20Eventos%20%28Daniel%20Garc%C3%ADa%20Calvo%29":MAILTO:eventos@secretosderiqueza.com
END:VEVENT
END:VCALENDAR