BEGIN:VCALENDAR
VERSION:2.0
PRODID:-//Espacio Elsa - ECPv5.0.2//NONSGML v1.0//EN
CALSCALE:GREGORIAN
METHOD:PUBLISH
X-WR-CALNAME:Espacio Elsa
X-ORIGINAL-URL:https://www.espacioelsa.com
X-WR-CALDESC:Eventos para Espacio Elsa
BEGIN:VTIMEZONE
TZID:Europe/Madrid
BEGIN:DAYLIGHT
TZOFFSETFROM:+0100
TZOFFSETTO:+0200
TZNAME:CEST
DTSTART:20190331T010000
END:DAYLIGHT
BEGIN:STANDARD
TZOFFSETFROM:+0200
TZOFFSETTO:+0100
TZNAME:CET
DTSTART:20191027T010000
END:STANDARD
END:VTIMEZONE
BEGIN:VEVENT
DTSTART;TZID=Europe/Madrid:20190211T200000
DTEND;TZID=Europe/Madrid:20190211T213000
DTSTAMP:20260425T172108
CREATED:20190207T110707Z
LAST-MODIFIED:20190207T110707Z
UID:2362-1549915200-1549920600@www.espacioelsa.com
SUMMARY:Creación de la Explicación del Proyecto - 14ª sesión Master con Pep Sevillà y Elizabeth Ortiz
DESCRIPTION:
URL:https://www.espacioelsa.com/evento/creacion-de-la-explicacion-del-proyecto-14a-sesion-master-con-pep-sevilla-y-elizabeth-ortiz/
LOCATION:Sala 2\, C/ Marina\, 132\, BIS\, Barcelona\, Barcelona\, 08013\, Spain
CATEGORIES:Cursos
ATTACH;FMTTYPE=image/jpeg:https://www.espacioelsa.com/wp-content/uploads/2019/02/WhatsApp-Image-2019-02-07-at-11.51.02.jpeg
END:VEVENT
END:VCALENDAR