BEGIN:VCALENDAR
VERSION:2.0
PRODID:-//Espacio Elsa - ECPv5.0.2//NONSGML v1.0//EN
CALSCALE:GREGORIAN
METHOD:PUBLISH
X-WR-CALNAME:Espacio Elsa
X-ORIGINAL-URL:https://www.espacioelsa.com
X-WR-CALDESC:Eventos para Espacio Elsa
BEGIN:VTIMEZONE
TZID:Europe/Madrid
BEGIN:DAYLIGHT
TZOFFSETFROM:+0100
TZOFFSETTO:+0200
TZNAME:CEST
DTSTART:20190331T010000
END:DAYLIGHT
BEGIN:STANDARD
TZOFFSETFROM:+0200
TZOFFSETTO:+0100
TZNAME:CET
DTSTART:20191027T010000
END:STANDARD
END:VTIMEZONE
BEGIN:VEVENT
DTSTART;TZID=Europe/Madrid:20190704T183000
DTEND;TZID=Europe/Madrid:20190704T203000
DTSTAMP:20260425T135404
CREATED:20190625T201135Z
LAST-MODIFIED:20190625T201135Z
UID:2767-1562265000-1562272200@www.espacioelsa.com
SUMMARY:Conferencia Gratuita: Las 5 Claves de la Sanación Energética
DESCRIPTION:No te pierdas esta estupenda Conferencia Gratuita:\nLas 5 Claves de la Sanación Energética \nPatrocinado por: Aldea de la Luz \nReserva ahora tu plaza: HAZ CLICK AQUÍ \n  \n
URL:https://www.espacioelsa.com/evento/conferencia-gratuita-las-5-claves-de-la-sanacion-energetica/
LOCATION:Sala 2\, C/ Marina\, 132\, BIS\, Barcelona\, Barcelona\, 08013\, Spain
CATEGORIES:Conferencias
ATTACH;FMTTYPE=image/jpeg:https://www.espacioelsa.com/wp-content/uploads/2019/06/IMG-20190618-WA0026-1-e1561493442100.jpg
ORGANIZER;CN="Alicia%20Mateos":MAILTO:aliciamateoscarro@gmail.com
END:VEVENT
END:VCALENDAR