BEGIN:VCALENDAR
VERSION:2.0
PRODID:-//Espacio Elsa - ECPv5.0.2//NONSGML v1.0//EN
CALSCALE:GREGORIAN
METHOD:PUBLISH
X-WR-CALNAME:Espacio Elsa
X-ORIGINAL-URL:https://www.espacioelsa.com
X-WR-CALDESC:Eventos para Espacio Elsa
BEGIN:VTIMEZONE
TZID:Europe/Madrid
BEGIN:DAYLIGHT
TZOFFSETFROM:+0100
TZOFFSETTO:+0200
TZNAME:CEST
DTSTART:20180325T010000
END:DAYLIGHT
BEGIN:STANDARD
TZOFFSETFROM:+0200
TZOFFSETTO:+0100
TZNAME:CET
DTSTART:20181028T010000
END:STANDARD
END:VTIMEZONE
BEGIN:VEVENT
DTSTART;TZID=Europe/Madrid:20181120T200000
DTEND;TZID=Europe/Madrid:20181120T213000
DTSTAMP:20260425T201006
CREATED:20181126T183447Z
LAST-MODIFIED:20181126T183447Z
UID:2266-1542744000-1542749400@www.espacioelsa.com
SUMMARY:Conferencia: Emprende Cunlaude 21
DESCRIPTION:Construye un negocio rentable y seguro en el sector de marketing en red. \n
URL:https://www.espacioelsa.com/evento/conferencia-emprende-cunlaude-21-3/
LOCATION:Sala 2\, C/ Marina\, 132\, BIS\, Barcelona\, Barcelona\, 08013\, Spain
CATEGORIES:Conferencias
ATTACH;FMTTYPE=image/jpeg:https://www.espacioelsa.com/wp-content/uploads/2018/11/Carme-cunlaude-20nov.jpg
ORGANIZER;CN="Carme%20Fornell":MAILTO:carme@mileni.net
END:VEVENT
END:VCALENDAR