BEGIN:VCALENDAR
VERSION:2.0
PRODID:-//Espacio Elsa - ECPv5.0.2//NONSGML v1.0//EN
CALSCALE:GREGORIAN
METHOD:PUBLISH
X-WR-CALNAME:Espacio Elsa
X-ORIGINAL-URL:https://www.espacioelsa.com
X-WR-CALDESC:Eventos para Espacio Elsa
BEGIN:VTIMEZONE
TZID:Europe/Madrid
BEGIN:DAYLIGHT
TZOFFSETFROM:+0100
TZOFFSETTO:+0200
TZNAME:CEST
DTSTART:20180325T010000
END:DAYLIGHT
BEGIN:STANDARD
TZOFFSETFROM:+0200
TZOFFSETTO:+0100
TZNAME:CET
DTSTART:20181028T010000
END:STANDARD
END:VTIMEZONE
BEGIN:VEVENT
DTSTART;TZID=Europe/Madrid:20180608T190000
DTEND;TZID=Europe/Madrid:20180608T210000
DTSTAMP:20260426T004602
CREATED:20180524T180005Z
LAST-MODIFIED:20180607T171028Z
UID:1866-1528484400-1528491600@www.espacioelsa.com
SUMMARY:Mindfulness aplicado a tu vida- imparte Jordi Planes
DESCRIPTION:
URL:https://www.espacioelsa.com/evento/como-ser-un-emprendedor-de-exito-conferencia-impartida-por-jose-barragan/
LOCATION:Sala 1\, C/ Marina\, 132\, bajos\, Barcelona\, Barcelona\, 08013\, Spain
CATEGORIES:Conferencias
ATTACH;FMTTYPE=image/jpeg:https://www.espacioelsa.com/wp-content/uploads/2018/05/carme-mindfulness-1.jpg
END:VEVENT
END:VCALENDAR