BEGIN:VCALENDAR
VERSION:2.0
PRODID:-//Espacio Elsa - ECPv5.0.2//NONSGML v1.0//EN
CALSCALE:GREGORIAN
METHOD:PUBLISH
X-WR-CALNAME:Espacio Elsa
X-ORIGINAL-URL:https://www.espacioelsa.com
X-WR-CALDESC:Eventos para Espacio Elsa
BEGIN:VTIMEZONE
TZID:Europe/Madrid
BEGIN:DAYLIGHT
TZOFFSETFROM:+0100
TZOFFSETTO:+0200
TZNAME:CEST
DTSTART:20190331T010000
END:DAYLIGHT
BEGIN:STANDARD
TZOFFSETFROM:+0200
TZOFFSETTO:+0100
TZNAME:CET
DTSTART:20191027T010000
END:STANDARD
END:VTIMEZONE
BEGIN:VEVENT
DTSTART;TZID=Europe/Madrid:20190710T190000
DTEND;TZID=Europe/Madrid:20190710T210000
DTSTAMP:20260425T133129
CREATED:20190615T103921Z
LAST-MODIFIED:20190702T154757Z
UID:2725-1562785200-1562792400@www.espacioelsa.com
SUMMARY:CONFERENCIA GRATUITA - BASIC CLOWN Descubre a tu Payas@
DESCRIPTION:Te invitamos a esta Conferencia Gratuita donde vas a conectar con tu Esencia \nDesde el juego y la inocencia del Payas@ que tod@s tenemos y con la mirada y la sensibilidad del Clown en su sentido más terapéutico. Una oportunidad para dejarte sentir y descubrir-te. \nUn espacio dónde compartir con Humor y Amor lo mucho que somos. \nFecha: 10 de Julio \nApúntate en el 696 386 231 \nLugar: Espacio Elsa Sants (Centro Nuevo)\nc/ Alcolea 115\, Local (Al lado de la Estación de Sants)\n08014 Barcelona \n
URL:https://www.espacioelsa.com/evento/basic-clown-descubre-a-tu-payas/
LOCATION:Centro en Sants Estació\, c/ Alcolea 115 Local\, Barcelona\, Barcelona\, 08014\, España
CATEGORIES:Conferencias
ATTACH;FMTTYPE=image/jpeg:https://www.espacioelsa.com/wp-content/uploads/2019/06/WhatsApp-Image-2019-06-20-at-18.49.46-e1561292124885.jpeg
END:VEVENT
END:VCALENDAR