BEGIN:VCALENDAR
VERSION:2.0
PRODID:-//Espacio Elsa - ECPv5.0.2//NONSGML v1.0//EN
CALSCALE:GREGORIAN
METHOD:PUBLISH
X-WR-CALNAME:Espacio Elsa
X-ORIGINAL-URL:https://www.espacioelsa.com
X-WR-CALDESC:Eventos para Espacio Elsa
BEGIN:VTIMEZONE
TZID:Europe/Madrid
BEGIN:DAYLIGHT
TZOFFSETFROM:+0100
TZOFFSETTO:+0200
TZNAME:CEST
DTSTART:20190331T010000
END:DAYLIGHT
BEGIN:STANDARD
TZOFFSETFROM:+0200
TZOFFSETTO:+0100
TZNAME:CET
DTSTART:20191027T010000
END:STANDARD
END:VTIMEZONE
BEGIN:VEVENT
DTSTART;TZID=Europe/Madrid:20190209T100000
DTEND;TZID=Europe/Madrid:20190209T190000
DTSTAMP:20260425T154733
CREATED:20190205T092517Z
LAST-MODIFIED:20190205T092517Z
UID:2345-1549706400-1549738800@www.espacioelsa.com
SUMMARY:Astrología de la transformación- Curso impartido por Adriana Wortman
DESCRIPTION:Primer nivel de la formación de astrología:\n – Concepto de zodíaco: El cielo astrológico. La astrología a lo largo del tiempo: Astronomía\,\n Cosmopsicología\, Psicoastrología. Enfoque arquetípico y energético.\n – Introducción al concepto de multi-dimensionalidad y los 4 Universos de la Kábbalah.\n – Los Ingredientes: Signos – Planetas – Casas – Aspectos.\n – Elementos – Ritmos – Polaridades.\n – Montaje de la carta natal. Técnicas de verificación y auto-corrección.\n – Los signos como estadio energético y como proceso evolutivo de la conciencia. Experiencia vivencial.\n Significado arquetípico\, evolutivo y espiritual. Visión multidimensional.\n – Significado de las 12 casas.\n – Los Planetas. Facultades Energéticas. Experiencia vivencial. Significados y expresión multidimensional.\n – Introducción a la interpretación de los aspectos.\n – Introducción al estudio sistemático de las casas.\n – Iniciación a la interpretación de la carta natal \n
URL:https://www.espacioelsa.com/evento/astrologia-de-la-transformacion-curso-impartido-por-adriana-wortman-4/
LOCATION:Sala 2\, C/ Marina\, 132\, BIS\, Barcelona\, Barcelona\, 08013\, Spain
CATEGORIES:Cursos
ATTACH;FMTTYPE=image/jpeg:https://www.espacioelsa.com/wp-content/uploads/2019/02/astrologia-adriana.jpg
ORGANIZER;CN="Adriana%20Wortman":MAILTO:adrianawortman@gmail.com
END:VEVENT
END:VCALENDAR