BEGIN:VCALENDAR
VERSION:2.0
PRODID:-//Espacio Elsa - ECPv5.0.2//NONSGML v1.0//EN
CALSCALE:GREGORIAN
METHOD:PUBLISH
X-WR-CALNAME:Espacio Elsa
X-ORIGINAL-URL:https://www.espacioelsa.com
X-WR-CALDESC:Eventos para Espacio Elsa
BEGIN:VTIMEZONE
TZID:Europe/Madrid
BEGIN:DAYLIGHT
TZOFFSETFROM:+0100
TZOFFSETTO:+0200
TZNAME:CEST
DTSTART:20180325T010000
END:DAYLIGHT
BEGIN:STANDARD
TZOFFSETFROM:+0200
TZOFFSETTO:+0100
TZNAME:CET
DTSTART:20181028T010000
END:STANDARD
END:VTIMEZONE
BEGIN:VEVENT
DTSTART;TZID=Europe/Madrid:20180914T100000
DTEND;TZID=Europe/Madrid:20180914T200000
DTSTAMP:20260425T133827
CREATED:20180821T162036Z
LAST-MODIFIED:20180821T162036Z
UID:2042-1536919200-1536955200@www.espacioelsa.com
SUMMARY:Adriana Wortman- sesiones individuales de astrología
DESCRIPTION:
URL:https://www.espacioelsa.com/evento/adriana-wortman-sesiones-individuales-de-astrologia/
LOCATION:Sala 2\, C/ Marina\, 132\, BIS\, Barcelona\, Barcelona\, 08013\, Spain
ATTACH;FMTTYPE=image/jpeg:https://www.espacioelsa.com/wp-content/uploads/2018/07/adriana-astrologia.jpg
ORGANIZER;CN="Adriana%20Wortman":MAILTO:adrianawortman@gmail.com
END:VEVENT
END:VCALENDAR