BEGIN:VCALENDAR
VERSION:2.0
PRODID:-//Espacio Elsa - ECPv5.0.2//NONSGML v1.0//EN
CALSCALE:GREGORIAN
METHOD:PUBLISH
X-WR-CALNAME:Espacio Elsa
X-ORIGINAL-URL:https://www.espacioelsa.com
X-WR-CALDESC:Eventos para Espacio Elsa
BEGIN:VTIMEZONE
TZID:Europe/Madrid
BEGIN:DAYLIGHT
TZOFFSETFROM:+0100
TZOFFSETTO:+0200
TZNAME:CEST
DTSTART:20180325T010000
END:DAYLIGHT
BEGIN:STANDARD
TZOFFSETFROM:+0200
TZOFFSETTO:+0100
TZNAME:CET
DTSTART:20181028T010000
END:STANDARD
END:VTIMEZONE
BEGIN:VEVENT
DTSTART;TZID=Europe/Madrid:20181216T110000
DTEND;TZID=Europe/Madrid:20181216T210000
DTSTAMP:20260425T180831
CREATED:20181210T210904Z
LAST-MODIFIED:20181210T211240Z
UID:2298-1544958000-1544994000@www.espacioelsa.com
SUMMARY:Yo merezco un año extraordinario- Taller impartido por Yolanda Modrego y Viktor Kala
DESCRIPTION:Un día con Yolanda Modrego y Viktor Kala. \n¿Sientes que hay días que no eres todo lo feliz que te gustaría ser? \n¿Te gustaría hacer realidad tu sueño en el 2019? \nAtrévete al cambio y proyecta tu mejor año 2019 \n¡JUNTOS ES MÁS FÁCIL! \nMás información: www.yolandamodrego.com \n
URL:https://www.espacioelsa.com/evento/2298/
LOCATION:Sala 1\, C/ Marina\, 132\, bajos\, Barcelona\, Barcelona\, 08013\, Spain
CATEGORIES:Talleres
END:VEVENT
END:VCALENDAR