BEGIN:VCALENDAR
VERSION:2.0
PRODID:-//Espacio Elsa - ECPv5.0.2//NONSGML v1.0//EN
CALSCALE:GREGORIAN
METHOD:PUBLISH
X-WR-CALNAME:Espacio Elsa
X-ORIGINAL-URL:https://www.espacioelsa.com
X-WR-CALDESC:Eventos para Espacio Elsa
BEGIN:VTIMEZONE
TZID:Europe/Madrid
BEGIN:DAYLIGHT
TZOFFSETFROM:+0100
TZOFFSETTO:+0200
TZNAME:CEST
DTSTART:20190331T010000
END:DAYLIGHT
BEGIN:STANDARD
TZOFFSETFROM:+0200
TZOFFSETTO:+0100
TZNAME:CET
DTSTART:20191027T010000
END:STANDARD
END:VTIMEZONE
BEGIN:VEVENT
DTSTART;TZID=Europe/Madrid:20190615T103000
DTEND;TZID=Europe/Madrid:20190615T190000
DTSTAMP:20260425T171815
CREATED:20190612T105140Z
LAST-MODIFIED:20190615T104731Z
UID:2695-1560594600-1560625200@www.espacioelsa.com
SUMMARY:❤ "MEJORA TUS RELACIONES PERSONALES" ❤
DESCRIPTION:“La RIQUEZA del AMOR y la AMISTAD” \npor Daniel Garcia Calvo\, El Taller Nº1 para Aprender a Hacer Nuevas Amistades\, Conocer Gente como Tú\, Aumentar Tu Confianza y Mejorar Tus Relaciones ¡¡A Todos los Niveles!! \n¿Estás preparad@ para conocer gente nueva y llenar tu vida con la magia y la riqueza del amor y la amistad? \nEn este taller aprenderás: \n– Cómo desarrollar tus fortalezas\n– Aumentar Tu Confianza en Ti mism@\n– Dejar Atrás Tu Timidez\n– Realzar Tus Valores Personales\n– Aumentar Tu Autoestima\n– Cómo comunicarte con serenidad\n– Cómo hacer que los demás se interesen por ti\n– Saber qué tipo de personas quieres atraer a tu vida\n– Averiguar cómo y dónde conocer gente nueva\n– Conservar amistades\n– Aumentar tu poder de atracción\n– Además\, conocerás gente que vibra en tu misma frecuencia\n¡¡Y muchas cosas más!! ????? \n¡¡¡TU VIDA VA A CAMBIAR A MEJOR!!!\nGARANTIZADO \nAPORTACIÓN: 59€ (Precio Promocional\, precio Real del Taller 200€) \n
URL:https://www.espacioelsa.com/evento/%e2%9d%a4-mejora-tus-relaciones-%e2%9d%a4/
LOCATION:Sala 1\, C/ Marina\, 132\, bajos\, Barcelona\, Barcelona\, 08013\, Spain
CATEGORIES:Talleres
ATTACH;FMTTYPE=image/jpeg:https://www.espacioelsa.com/wp-content/uploads/2019/06/amigos-felices-e1560336270810.jpg
ORGANIZER;CN="Dpto.%20Eventos%20%28Daniel%20Garc%C3%ADa%20Calvo%29":MAILTO:eventos@secretosderiqueza.com
END:VEVENT
END:VCALENDAR