BEGIN:VCALENDAR
VERSION:2.0
PRODID:-//Espacio Elsa - ECPv5.0.2//NONSGML v1.0//EN
CALSCALE:GREGORIAN
METHOD:PUBLISH
X-WR-CALNAME:Espacio Elsa
X-ORIGINAL-URL:https://www.espacioelsa.com
X-WR-CALDESC:Eventos para Espacio Elsa
BEGIN:VTIMEZONE
TZID:Europe/Madrid
BEGIN:DAYLIGHT
TZOFFSETFROM:+0100
TZOFFSETTO:+0200
TZNAME:CEST
DTSTART:20240331T010000
END:DAYLIGHT
BEGIN:STANDARD
TZOFFSETFROM:+0200
TZOFFSETTO:+0100
TZNAME:CET
DTSTART:20241027T010000
END:STANDARD
END:VTIMEZONE
BEGIN:VEVENT
DTSTART;VALUE=DATE:20241005
DTEND;VALUE=DATE:20241006
DTSTAMP:20260421T000806
CREATED:20240708T105453Z
LAST-MODIFIED:20240708T105927Z
UID:4023-1728086400-1728172799@www.espacioelsa.com
SUMMARY:Descúbrete A Través De Los Cristales
DESCRIPTION:¡¡¡Ya puedes apuntarte al próximo curso de cristales!!! Comenzamos en Octubre para ir al son de la tierra que nos ayudará a soltar y trabajar nuestras raíces con el otoño.\n¿Qué vas a trabajar? Este es un curso de nueve meses donde trabajará tu interior\, te descubrirás de la mano de 32 cristales \, para despertar el cristal que guardas en tu interior.\n.\nTrabajaremos nueve centros energéticos de la mano de sanación con lenguaje de luz\, canalización\, mantras\, meditaciones siempre de la mano de los cristales ( incluidos todos en el curso)\, PDF con toda la información.\nPresencial en Barcelona en @espacioelsa \, un sábado al mes de 11h a 13:30h y de 15:30 a 19h.\n.\nTemario:\n✔️ Conocimiento\, uso y conexión de los cristales( aprenderás a recibir mensajes de los genios cristalinos\n✔️ Sanación\, liberación de memorias ADN\, reestructuración celular a través del trabajo de los cristales en tu cuerpo\n✔️ Leyes espirituales\n✔️ Los cuatro acuerdos\n✔️ Registros Akashicos. Tendrás una ventana donde mirar a través de la meditación con los cristales creando tu lugar de descanso\n✔️ Árbol trasgeracional( entender la familia que has elegido\, liberar cargas ancestros)\n✔️ Ho’oponopono\n✔️ Curso de milagros\n✔️ Despertar la energía cristica\n✔️ Cambiar y crear tu nueva vida\n.\nCurso con titulación iniciación a la gemoterapia\, al acabar este curso podrás realizar el curso de siete meses de prácticas de la mano de 28 cristales más y formarte como terapeuta con cristales. \nInfórmate y reserva en elracodelanatura33@gmail.com\nSonia Mantas 620 11 32 30\n.\n#cursobarcelona #españa #crecimientopersonal #despertarespiritual #canalizacion #cristaloterapia #cristales #cursodemilagros #registrosakashicos #leyesuniversales #mantras #honoponopono #lenguajedeluz #arboltransgeneracional #sanacionholistica #descubrete #amate \n  \n
URL:https://www.espacioelsa.com/evento/descubrete-a-traves-de-los-cristales-2/
LOCATION:Centro en Sants Estació\, c/ Alcolea 115 Local\, Barcelona\, Barcelona\, 08014\, España
CATEGORIES:Cursos
ATTACH;FMTTYPE=image/jpeg:https://www.espacioelsa.com/wp-content/uploads/2024/07/WhatsApp-Image-2024-07-08-at-10.04.27.jpeg
ORGANIZER;CN="Sonia%20Mantas":MAILTO:elracodelanatura33@gmail.com
END:VEVENT
END:VCALENDAR