BEGIN:VCALENDAR
VERSION:2.0
PRODID:-//Espacio Elsa - ECPv5.0.2//NONSGML v1.0//EN
CALSCALE:GREGORIAN
METHOD:PUBLISH
X-WR-CALNAME:Espacio Elsa
X-ORIGINAL-URL:https://www.espacioelsa.com
X-WR-CALDESC:Eventos para Espacio Elsa
BEGIN:VTIMEZONE
TZID:Europe/Madrid
BEGIN:DAYLIGHT
TZOFFSETFROM:+0100
TZOFFSETTO:+0200
TZNAME:CEST
DTSTART:20240331T010000
END:DAYLIGHT
BEGIN:STANDARD
TZOFFSETFROM:+0200
TZOFFSETTO:+0100
TZNAME:CET
DTSTART:20241027T010000
END:STANDARD
END:VTIMEZONE
BEGIN:VEVENT
DTSTART;TZID=Europe/Madrid:20240415T193000
DTEND;TZID=Europe/Madrid:20240415T210000
DTSTAMP:20260421T105411
CREATED:20230522T165430Z
LAST-MODIFIED:20240404T111750Z
UID:3901-1713209400-1713214800@www.espacioelsa.com
SUMMARY:Clases de Yoga Martes y Jueves
DESCRIPTION:Tuve la suerte de realizar mi formación como instructor de Hatha Yoga con uno de los mejores maestros actualmente en India; Surinder Singh en Rishikesh. \nGracias a su sabiduría y humildad pude profundizar y entender cómo compartir con otros esta gran disciplina que es el yoga \n \nAhora de nuevo en Barcelona después de un tiempo de viajes y grandes experiencias sería un placer compartir lo aprendido con vosotros \n \nOs espero en el Espacio Elsa los martes y jueves de 19:30 a 21h.\n\nEl yoga es una ciencia antigua que conduce a la salud en el cuerpo\,la paz en la mente\,la alegría en el corazón y la liberación del alma \n \nMi nombre es Manuel Mateos \nMás información en el 699 386 928 \nTe espero  \n\n
URL:https://www.espacioelsa.com/evento/clases-de-yoga-gratuitas-2/
LOCATION:Centro en Sants Estació\, c/ Alcolea 115 Local\, Barcelona\, Barcelona\, 08014\, España
ATTACH;FMTTYPE=image/jpeg:https://www.espacioelsa.com/wp-content/uploads/2023/05/Screenshot_2023-05-14-21-14-55-970_com.facebook.lite_-1.jpg
END:VEVENT
END:VCALENDAR