BEGIN:VCALENDAR
VERSION:2.0
PRODID:-//Espacio Elsa - ECPv5.0.2//NONSGML v1.0//EN
CALSCALE:GREGORIAN
METHOD:PUBLISH
X-WR-CALNAME:Espacio Elsa
X-ORIGINAL-URL:https://www.espacioelsa.com
X-WR-CALDESC:Eventos para Espacio Elsa
BEGIN:VTIMEZONE
TZID:Europe/Madrid
BEGIN:DAYLIGHT
TZOFFSETFROM:+0100
TZOFFSETTO:+0200
TZNAME:CEST
DTSTART:20230326T010000
END:DAYLIGHT
BEGIN:STANDARD
TZOFFSETFROM:+0200
TZOFFSETTO:+0100
TZNAME:CET
DTSTART:20231029T010000
END:STANDARD
END:VTIMEZONE
BEGIN:VEVENT
DTSTART;TZID=Europe/Madrid:20231007T140000
DTEND;TZID=Europe/Madrid:20231007T140000
DTSTAMP:20260421T212303
CREATED:20230607T152803Z
LAST-MODIFIED:20230607T153241Z
UID:3914-1696687200-1696687200@www.espacioelsa.com
SUMMARY:Descúbrete a través de los cristales
DESCRIPTION:Ya puedes apuntarte al próximo curso de cristales!! Nueve meses de formación de la mano de 30 cristales.\n.\nEste curso está diseñado para que cambies tu vida de la mano de los genios cristalinos.\nConocer qué son los cristales\, como actúan en cuerpo\, mente y espíritu.\nConectar con la luz del cristal\, Aprenderás a usarlos en tu cuerpo y en tu vida\, para así abrir la conciencia a la conexión de tu corazón\, pues para cambiar tu realidad tienes que mirar dentro de ti. \nNueve meses de formación un Sábado al mes\, curso presencial en Barcelona (espacio Elsa sants) y en Madrid (sala Vidaes) de 10h a 14h y de 16h a 19h.\n¿Qué vamos a trabajar?\nEste es un curso profundo\, para conocer los cristales a nivel energético\, más allá de su composición y usos\, conectar con la luz de ese cristal\, para abrir la conciencia a tu propio descubrimiento. Un curso de crecimiento interior para que diluya los pensamientos que te limitan\, pues el cristal es un despertador de conciencia y te ayudará a ello.\nLa mente necesita de un tiempo para integrar y abrir a un pensamiento guiado del corazón\, los cambios los verás nada más comenzar.\nVamos a trabajar de la mano de 30 cristales nueve centros energéticos\, pues cada uno de ellos va relacionado con un aspecto de tu ser. Conocerás tus chacras\, el campo energético que te envuelve y los cristales que trabajarán en ellos. \nConoceremos y trabajaremos :\n????Las leyes espirituales.\n????Registros akashicos.\n????El árbol trangeracional.\n????Los cuatro acuerdos.\n????El oho’oponopono.\n????Un curso de milagros.\n????Mantras y música.\n????Los elementos. \nTodo ello dando el entendimiento a través de la canalización de guías\, maestros ascendidos y el lenguaje de la luz. \nAprenderás a conocer de la mano de los cristales la voz del corazón\, que haces en este mundo y tu camino de vida\, disolviendo los miedos. \nSi te quieres formar como terapeuta con cristales\, al acabar este curso comenzaremos el curso de siete meses de prácticas con cristales donde de la mano de 30 cristales más conocerás las capas del aura\, trabajar a distancia\, pirámides\, canalización …\nCurso con titulación.\nComenzamos en Octubre! \nInfórmate 620113230\nSonia Mantas terapeuta\, formadora con cristales y lenguaje de luz.\nelracodelanatura33@gmail.com \n
URL:https://www.espacioelsa.com/evento/descubrete-a-traves-de-los-cristales/
LOCATION:Centro en Sants Estació\, c/ Alcolea 115 Local\, Barcelona\, Barcelona\, 08014\, España
ATTACH;FMTTYPE=image/jpeg:https://www.espacioelsa.com/wp-content/uploads/2023/06/WhatsApp-Image-2023-06-07-at-17.04.24-e1686151504732.jpeg
END:VEVENT
END:VCALENDAR