BEGIN:VCALENDAR
VERSION:2.0
PRODID:-//Espacio Elsa - ECPv5.0.2//NONSGML v1.0//EN
CALSCALE:GREGORIAN
METHOD:PUBLISH
X-WR-CALNAME:Espacio Elsa
X-ORIGINAL-URL:https://www.espacioelsa.com
X-WR-CALDESC:Eventos para Espacio Elsa
BEGIN:VTIMEZONE
TZID:Europe/Madrid
BEGIN:DAYLIGHT
TZOFFSETFROM:+0100
TZOFFSETTO:+0200
TZNAME:CEST
DTSTART:20230326T010000
END:DAYLIGHT
BEGIN:STANDARD
TZOFFSETFROM:+0200
TZOFFSETTO:+0100
TZNAME:CET
DTSTART:20231029T010000
END:STANDARD
END:VTIMEZONE
BEGIN:VEVENT
DTSTART;TZID=Europe/Madrid:20230511T180000
DTEND;TZID=Europe/Madrid:20230511T190000
DTSTAMP:20260422T062749
CREATED:20230508T120454Z
LAST-MODIFIED:20230508T120636Z
UID:3879-1683828000-1683831600@www.espacioelsa.com
SUMMARY:Clases de Yoga Gratuitas
DESCRIPTION:¿Alguna vez te has acercado al yoga?\n \n¿Te gustaría saber en qué consiste? \nMejora la coordinación y la concentración\, reduce el estrés y te ayudará a dormir mejor\, además de otros muchos beneficios. \nTe invito a acompañarme para que descubras lo que ésta práctica puede aportar a tu vida. \n \nLa duración será de dos clases por semana y serán gratuitas.\n(todos los Martes y Jueves a las 18h) \nSólo necesitas ganas por conocer esta experiencia\, o profundizar un poco más si alguna vez la has realizado. \nMi nombre es Piedad.  \nSi estás interesad@ llámame al 685405594. \nMe gustaría conocerte  \n\n
URL:https://www.espacioelsa.com/evento/clases-de-yoga-gratuitas/
LOCATION:Centro en Sants Estació\, c/ Alcolea 115 Local\, Barcelona\, Barcelona\, 08014\, España
ATTACH;FMTTYPE=image/png:https://www.espacioelsa.com/wp-content/uploads/2023/05/Sin-título2.png
END:VEVENT
END:VCALENDAR